Workbook

Sheet （記載例）第２号様式（所要額調書）
A1: 別記第２号様式（第５条関係） | U1: 交付申請
A3: 習志野市障がい者グループホーム運営費補助金額所要額調書
P4: 法人等名 | R4: =IF('第１号様式（申請書）'!G5="","",'第１号様式（申請書）'!G5)
P5: 施設名 | R5: =IF('第１号様式（申請書）'!G7="","",'第１号様式（申請書）'!G7)
P6: 施設所在地 | R6: =IF('第１号様式（申請書）'!G8="","",'第１号様式（申請書）'!G8)
A8: 1.補助金所要額 | U8: （単位:円）
A9: 対象者数（実人数） | C9: 対象経費 | N9: 補助基準額計 （注1） D | P9: 補助所要額 （CとDを比較し て少ない額） E | R9: 備考
C11: 対象経費の 支出予定額 A | J11: 収入予定額 （【別記第３号様式（収支予算書）】の 年間サービス費と寄付金の合計） B | L11: 差引額 C（A-B）
A15: 3 | C15: ='（記載例）第３号様式（収支予算書）'!C43 -> 4819500 | J15: 3259467 | L15: =C15-J15 -> 1560033 | N15: =U64 -> 54553 | P15: =MIN(L15:O15) -> 54553
A18: 注1．Ａの対象経費の支出予定額の欄には、収支予算書の「支出」の合計金額が入る。
A19: 注2．Dの補助基準額計欄には、「2.対象者の内訳」の「⑥補助額」が入る。
A21: 2.対象者の内訳 | T21: （単位：円）
A22: № | B22: グループホーム の住居名 | C22: 世話人配置 （注2） | E22: 定員 （注2） | G22: 区分 （注2） | J22: 入居者氏名 （注1） | L22: ①利用延月数 （注3） | N22: ②補助基準額 （月額） | P22: ③補助基準額 （年額…①×②） | R22: ④年間サービス費 （注4） | T22: ⑤合 計 （③－④） | U22: ⑥補助額 （⑤がマイナスの入居者は0円換算）
A24: 1 | B24: ○○ホーム | C24: 6:1（12：1加配） | D24: =VLOOKUP(C24,$C$73:$J$78,2,FALSE) -> 1 | E24: 4人以下 | F24: =VLOOKUP(E24,$E$73:$J$78,2,FALSE) -> 1 | G24: 3 | H24: =VLOOKUP(G24,$G$73:$H$78,2,FALSE) -> 3 | I24: =D24&F24&H24 -> 113 | J24: ▲▲ △△△ | L24: 12 | N24: =IFERROR(VLOOKUP(I24,$C$84:$D$137,2,FALSE),0) -> 127000 | P24: =L24*N24 -> 1524000 | R24: ='（記載例）第４号様式（年間サービス費）1'!D31 -> 1519467 | T24: =SUM(L24*N24-R24) -> 4533 | U24: =MAX(T24,0) -> 4533
A26: 2 | B26: ○○ホーム | C26: 6:1（12：1加配） | D26: =VLOOKUP(C26,$C$73:$J$78,2,FALSE) -> 1 | E26: 4人以下 | F26: =VLOOKUP(E26,$E$73:$J$78,2,FALSE) -> 1 | G26: 2 | H26: =VLOOKUP(G26,$G$73:$H$78,2,FALSE) -> 2 | I26: =D26&F26&H26 -> 112 | J26: ■■ □□ | L26: 4.41 | N26: =IFERROR(VLOOKUP(I26,$C$84:$D$137,2,FALSE),0) -> 122000 | P26: =L26*N26 -> 538020 | R26: 500000 | T26: =SUM(L26*N26-R26) -> 38020 | U26: =MAX(T26,0) -> 38020
A28: 3 | B28: □□ホーム | C28: 6:1 | D28: =VLOOKUP(C28,$C$73:$J$78,2,FALSE) -> 3 | E28: 5人 | F28: =VLOOKUP(E28,$E$73:$J$78,2,FALSE) -> 2 | G28: 3 | H28: =VLOOKUP(G28,$G$73:$H$78,2,FALSE) -> 3 | I28: =D28&F28&H28 -> 323 | J28: ○○ ●●● | L28: 10 | N28: =IFERROR(VLOOKUP(I28,$C$84:$D$137,2,FALSE),0) -> 101000 | P28: =L28*N28 -> 1010000 | R28: 1000000 | T28: =SUM(L28*N28-R28) -> 10000 | U28: =MAX(T28,0) -> 10000
A30: 4 | B30: □□ホーム | C30: 6:1 | D30: =VLOOKUP(C30,$C$73:$J$78,2,FALSE) -> 3 | E30: 5人 | F30: =VLOOKUP(E30,$E$73:$J$78,2,FALSE) -> 2 | G30: 4 | H30: =VLOOKUP(G30,$G$73:$H$78,2,FALSE) -> 4 | I30: =D30&F30&H30 -> 324 | J30: ○○ ●●● | L30: 2 | N30: =IFERROR(VLOOKUP(I30,$C$84:$D$137,2,FALSE),0) -> 121000 | P30: =L30*N30 -> 242000 | R30: 240000 | T30: =SUM(L30*N30-R30) -> 2000 | U30: =MAX(T30,0) -> 2000
A32: 5 | C32: 6:1 | D32: =VLOOKUP(C32,$C$73:$J$78,2,FALSE) -> 3 | E32: 4人以下 | F32: =VLOOKUP(E32,$E$73:$J$78,2,FALSE) -> 1 | G32: 0 | H32: =VLOOKUP(G32,$G$73:$H$78,2,FALSE) -> #N/A | I32: =D32&F32&H32 -> #N/A | N32: =IFERROR(VLOOKUP(I32,$C$84:$D$137,2,FALSE),0) -> 0 | P32: =L32*N32 -> 0 | T32: =SUM(L32*N32-R32) -> 0 | U32: =MAX(T32,0) -> 0
A34: 6 | C34: 6:1 | D34: =VLOOKUP(C34,$C$73:$J$78,2,FALSE) -> 3 | E34: 4人以下 | F34: =VLOOKUP(E34,$E$73:$J$78,2,FALSE) -> 1 | G34: 0 | H34: =VLOOKUP(G34,$G$73:$H$78,2,FALSE) -> #N/A | I34: =D34&F34&H34 -> #N/A | N34: =IFERROR(VLOOKUP(I34,$C$84:$D$137,2,FALSE),0) -> 0 | P34: =L34*N34 -> 0 | T34: =SUM(L34*N34-R34) -> 0 | U34: =MAX(T34,0) -> 0
A36: 7 | C36: 6:1 | D36: =VLOOKUP(C36,$C$73:$J$78,2,FALSE) -> 3 | E36: 4人以下 | F36: =VLOOKUP(E36,$E$73:$J$78,2,FALSE) -> 1 | G36: 0 | H36: =VLOOKUP(G36,$G$73:$H$78,2,FALSE) -> #N/A | I36: =D36&F36&H36 -> #N/A | N36: =IFERROR(VLOOKUP(I36,$C$84:$D$137,2,FALSE),0) -> 0 | P36: =L36*N36 -> 0 | T36: =SUM(L36*N36-R36) -> 0 | U36: =MAX(T36,0) -> 0
A38: 8 | C38: 6:1 | D38: =VLOOKUP(C38,$C$73:$J$78,2,FALSE) -> 3 | E38: 4人以下 | F38: =VLOOKUP(E38,$E$73:$J$78,2,FALSE) -> 1 | G38: 0 | H38: =VLOOKUP(G38,$G$73:$H$78,2,FALSE) -> #N/A | I38: =D38&F38&H38 -> #N/A | N38: =IFERROR(VLOOKUP(I38,$C$84:$D$137,2,FALSE),0) -> 0 | P38: =L38*N38 -> 0 | T38: =SUM(L38*N38-R38) -> 0 | U38: =MAX(T38,0) -> 0
A40: 9 | C40: 6:1 | D40: =VLOOKUP(C40,$C$73:$J$78,2,FALSE) -> 3 | E40: 4人以下 | F40: =VLOOKUP(E40,$E$73:$J$78,2,FALSE) -> 1 | G40: 0 | H40: =VLOOKUP(G40,$G$73:$H$78,2,FALSE) -> #N/A | I40: =D40&F40&H40 -> #N/A | N40: =IFERROR(VLOOKUP(I40,$C$84:$D$137,2,FALSE),0) -> 0 | P40: =L40*N40 -> 0 | T40: =SUM(L40*N40-R40) -> 0 | U40: =MAX(T40,0) -> 0
A42: 10 | C42: 6:1 | D42: =VLOOKUP(C42,$C$73:$J$78,2,FALSE) -> 3 | E42: 4人以下 | F42: =VLOOKUP(E42,$E$73:$J$78,2,FALSE) -> 1 | G42: 0 | H42: =VLOOKUP(G42,$G$73:$H$78,2,FALSE) -> #N/A | I42: =D42&F42&H42 -> #N/A | N42: =IFERROR(VLOOKUP(I42,$C$84:$D$137,2,FALSE),0) -> 0 | P42: =L42*N42 -> 0 | T42: =SUM(L42*N42-R42) -> 0 | U42: =MAX(T42,0) -> 0
A44: 11 | C44: 6:1 | D44: =VLOOKUP(C44,$C$73:$J$78,2,FALSE) -> 3 | E44: 4人以下 | F44: =VLOOKUP(E44,$E$73:$J$78,2,FALSE) -> 1 | G44: 0 | H44: =VLOOKUP(G44,$G$73:$H$78,2,FALSE) -> #N/A | I44: =D44&F44&H44 -> #N/A | N44: =IFERROR(VLOOKUP(I44,$C$84:$D$137,2,FALSE),0) -> 0 | P44: =L44*N44 -> 0 | T44: =SUM(L44*N44-R44) -> 0 | U44: =MAX(T44,0) -> 0
A46: 12 | C46: 6:1 | D46: =VLOOKUP(C46,$C$73:$J$78,2,FALSE) -> 3 | E46: 4人以下 | F46: =VLOOKUP(E46,$E$73:$J$78,2,FALSE) -> 1 | G46: 0 | H46: =VLOOKUP(G46,$G$73:$H$78,2,FALSE) -> #N/A | I46: =D46&F46&H46 -> #N/A | N46: =IFERROR(VLOOKUP(I46,$C$84:$D$137,2,FALSE),0) -> 0 | P46: =L46*N46 -> 0 | T46: =SUM(L46*N46-R46) -> 0 | U46: =MAX(T46,0) -> 0
A48: 13 | C48: 6:1 | D48: =VLOOKUP(C48,$C$73:$J$78,2,FALSE) -> 3 | E48: 4人以下 | F48: =VLOOKUP(E48,$E$73:$J$78,2,FALSE) -> 1 | G48: 0 | H48: =VLOOKUP(G48,$G$73:$H$78,2,FALSE) -> #N/A | I48: =D48&F48&H48 -> #N/A | N48: =IFERROR(VLOOKUP(I48,$C$84:$D$137,2,FALSE),0) -> 0 | P48: =L48*N48 -> 0 | T48: =SUM(L48*N48-R48) -> 0 | U48: =MAX(T48,0) -> 0
A50: 14 | C50: 6:1 | D50: =VLOOKUP(C50,$C$73:$J$78,2,FALSE) -> 3 | E50: 4人以下 | F50: =VLOOKUP(E50,$E$73:$J$78,2,FALSE) -> 1 | G50: 0 | H50: =VLOOKUP(G50,$G$73:$H$78,2,FALSE) -> #N/A | I50: =D50&F50&H50 -> #N/A | N50: =IFERROR(VLOOKUP(I50,$C$84:$D$137,2,FALSE),0) -> 0 | P50: =L50*N50 -> 0 | T50: =SUM(L50*N50-R50) -> 0 | U50: =MAX(T50,0) -> 0
A52: 15 | C52: 6:1 | D52: =VLOOKUP(C52,$C$73:$J$78,2,FALSE) -> 3 | E52: 4人以下 | F52: =VLOOKUP(E52,$E$73:$J$78,2,FALSE) -> 1 | G52: 0 | H52: =VLOOKUP(G52,$G$73:$H$78,2,FALSE) -> #N/A | I52: =D52&F52&H52 -> #N/A | N52: =IFERROR(VLOOKUP(I52,$C$84:$D$137,2,FALSE),0) -> 0 | P52: =L52*N52 -> 0 | T52: =SUM(L52*N52-R52) -> 0 | U52: =MAX(T52,0) -> 0
A54: 16 | C54: 6:1 | D54: =VLOOKUP(C54,$C$73:$J$78,2,FALSE) -> 3 | E54: 4人以下 | F54: =VLOOKUP(E54,$E$73:$J$78,2,FALSE) -> 1 | G54: 0 | H54: =VLOOKUP(G54,$G$73:$H$78,2,FALSE) -> #N/A | I54: =D54&F54&H54 -> #N/A | N54: =IFERROR(VLOOKUP(I54,$C$84:$D$137,2,FALSE),0) -> 0 | P54: =L54*N54 -> 0 | T54: =SUM(L54*N54-R54) -> 0 | U54: =MAX(T54,0) -> 0
... A62: 20 | C62: 6:1 | D62: =VLOOKUP(C62,$C$73:$J$78,2,FALSE) -> 3 | E62: 4人以下 | F62: =VLOOKUP(E62,$E$73:$J$78,2,FALSE) -> 1 | G62: 0 | H62: =VLOOKUP(G62,$G$73:$H$78,2,FALSE) -> #N/A | I62: =D62&F62&H62 -> #N/A | N62: =IFERROR(VLOOKUP(I62,$C$84:$D$137,2,FALSE),0) -> 0 | P62: =L62*N62 -> 0 | T62: =SUM(L62*N62-R62) -> 0 | U62: =MAX(T62,0) -> 0
A64: 計 | P64: =SUM(P24:Q63) -> 3314020 | R64: =SUM(R24:S63) -> 3259467 | T64: =SUM(T24:T63) -> 54553 | U64: =SUM(U24:U63) -> 54553
A66: 注1．入居者ごとに行を分けて入力すること。（年度途中で世話人配置、定員、区分が変わった場合は、更に行を分けて入力すること。）
A67: 注2．世話人配置、定員、障害支援区分は、月の初日の状況を適用するものとする。
A68: 注3．入居者が月の途中で入退去した場合は日割計算を行い、小数点以下第2位まで算出する。（小数点第3位以下を切り捨て。）
A69: （例:4月1日～8月13日までの利用の場合、8月は13日÷31日＝0.419のため、4.41月となる。）
A70: 注4．「④年間サービス費」の欄には共同生活援助サービス費、入院時支援特別加算、長期入院時支援特別加算、帰宅時支援加算、長期帰宅時支援加算の合計額を入力する。
A71: 別記第４号様式（年間サービス費算出シート）を使って算出すること。
C72: 世話人配置 | E72: 定員 | G72: 区分
C73: 6:1（12：1加配） | D73: 1 | E73: 4人以下 | F73: 1 | G73: 1・非該当 | H73: 1
C74: 6:1(30:1加配） | D74: 2 | E74: 5人 | F74: 2 | G74: 2 | H74: 2
...

Sheet （記載例）第３号様式（収支予算書）
A1: 別記第３号様式（第５条関係）
A3: 習志野市障がい者グループホーム運営費補助金収支予算書
A7: 収入
A8: 科目 | C8: 金額（円） | D8: 説明
A9: 自立支援給付費 | B9: 年間サービス費 | C9: 3621036 | D9: ※第２号様式参照
B10: 年間サービス費以外の加算 | C10: 700000
A11: 補助金収入 | B11: 習志野市運営費補助金 | C11: 401744
B12: 県開設支援費補助金等
A13: 寄付金等 | B13: 寄付金 | C13: 0 | D13: ※第２号様式参照
A14: その他 | B14: 自立支援給付費の利用者負担（1割負担）
B15: 法人繰入金 | C15: 96720
A18: 合計 | C18: =SUM(C9:C17) -> 4819500
A22: 支出
A23: 科目 | C23: 金額（円） | D23: 説明
A24: 人件費 | B24: 給与手当・賞与 | C24: 3500000
B25: 法定福利費 | C25: 700000
B26: 福利厚生費 | C26: 100000
A28: 事業費 | B28: 旅費交通費 | C28: 31500
B29: 通信費 | C29: 57500
B30: 燃料費 | C30: 33800
B31: 事務用品費 | C31: 62700
B32: 諸会費 | C32: 3000
B33: 保険料 | C33: 45000
B34: 消耗品費 | C34: 67000
B35: 新聞図書費 | C35: 9000
B36: 管理諸費 | C36: 145000
B37: 研修費 | C37: 30000
B38: 租税公課 | C38: 35000
B39: 予備費
A43: 合計 | C43: =SUM(C24:C42) -> 4819500
A44: ・習志野市が支給決定した入居者の分のみを記載しています。
A45: ・対象経費は、名称、種別、理由の如何を問わず、ホームの 運営に要する人件費、運営費等とし、
A46: 建設費、修繕費、 住居の入居者が負担する食材料費・家賃・光熱水費等は含んでおりません。
B49: 法人所在地 | C49: =IF('第１号様式（申請書）'!G4="","",'第１号様式（申請書）'!G4)
B50: 法人名 | C50: =IF('第１号様式（申請書）'!G5="","",'第１号様式（申請書）'!G5)
B51: 代表者職・氏名 | C51: =IF('第１号様式（申請書）'!G6="","",'第１号様式（申請書）'!G6)
B52: 施設名 | C52: =IF('第１号様式（申請書）'!G7="","",'第１号様式（申請書）'!G7)
B53: 施設所在地 | C53: =IF('第１号様式（申請書）'!G8="","",'第１号様式（申請書）'!G8)
B54: 電話番号 | C54: =IF('第１号様式（申請書）'!G10="","",'第１号様式（申請書）'!G10)
B55: 管理者 | C55: =IF('第１号様式（申請書）'!G11="","",'第１号様式（申請書）'!G11)

Sheet （記載例）第４号様式（年間サービス費）1
A1: 別記第４号様式（第５条及び第７条関係） | J1: 交付申請
A3: 習志野市障がい者グループホーム運営費補助金年間サービス費算出シート | H3: 法人等名 | I3: =IF('第１号様式（申請書）'!G5="","",'第１号様式（申請書）'!G5)
A4: 【別記第２号様式（所要額調書）】の「④年間サービス費」の算出のため、入居者ごとに作成してください。 | H4: 施設名 | I4: =IF('第１号様式（申請書）'!G7="","",'第１号様式（申請書）'!G7)
A5: ※世話人配置、定員、区分が変わった場合は、シートを分けてください | H5: 施設所在地 | I5: =IF('第１号様式（申請書）'!G8="","",'第１号様式（申請書）'!G8)
A7: 入力の手順
A8: 1 地域単価を入力します。
A9: 2 国保連の請求明細書を基に各月のサービス単位数を入力します。
A10: 3 月間単位数、月間単位数×地域単価、月間サービス費、年間サービス費が自動計算されます。
A11: 4 月間単位数×地域単価が補助基準額（月額）を上回った月は、補助基準額（月額）が月間サービス費となります。
A12: 5 年合計サービス費を【別記第２号様式（所要額調書）】に入力してください。
A14: 地域単価 | B14: 10.96 | C14: 円 | E14: 入居者氏名 | F14: ='（記載例）第２号様式（所要額調書）'!J24 -> ▲▲ △△△ | G14: №1 | H14: 補助基準額（月額） | I14: ='（記載例）第２号様式（所要額調書）'!N24 -> 127000 | J14: 円
A16: サービス提供月 | B16: サービス単位数（単位） | H16: 月間単位数 （単位） | I16: 月間単位数× 地域単価(円) | J16: 月間サービス費 （円）
B17: 共同生活援助サービス費 | C17: 人員配置体制加算 | D17: 入院時支援特別加算 | E17: 長期入院時支援特別加算 | F17: 帰宅時支援加算 | G17: 長期帰宅時支援加算
A18: 4月 | B18: 134440 | F18: 187 | H18: =SUM(B18:G18) -> 134627 | I18: =ROUNDDOWN(H18*$B$14,0) -> 1475511 | J18: =MIN(I18,$I$14) -> 127000
A19: 5月 | B19: 80000 | H19: =SUM(B19:G19) -> 80000 | I19: =ROUNDDOWN(H19*$B$14,0) -> 876800 | J19: =MIN(I19,$I$14) -> 127000
A20: 6月 | B20: 12000 | H20: =SUM(B20:G20) -> 12000 | I20: =ROUNDDOWN(H20*$B$14,0) -> 131520 | J20: =MIN(I20,$I$14) -> 127000
A21: 7月 | B21: 12000 | H21: =SUM(B21:G21) -> 12000 | I21: =ROUNDDOWN(H21*$B$14,0) -> 131520 | J21: =MIN(I21,$I$14) -> 127000
A22: 8月 | B22: 13600 | H22: =SUM(B22:G22) -> 13600 | I22: =ROUNDDOWN(H22*$B$14,0) -> 149056 | J22: =MIN(I22,$I$14) -> 127000
A23: 9月 | B23: 12000 | H23: =SUM(B23:G23) -> 12000 | I23: =ROUNDDOWN(H23*$B$14,0) -> 131520 | J23: =MIN(I23,$I$14) -> 127000
A24: 10月 | B24: 12000 | H24: =SUM(B24:G24) -> 12000 | I24: =ROUNDDOWN(H24*$B$14,0) -> 131520 | J24: =MIN(I24,$I$14) -> 127000
A25: 11月 | B25: 10800 | F25: 374 | H25: =SUM(B25:G25) -> 11174 | I25: =ROUNDDOWN(H25*$B$14,0) -> 122467 | J25: =MIN(I25,$I$14) -> 122467
A26: 12月 | B26: 12000 | H26: =SUM(B26:G26) -> 12000 | I26: =ROUNDDOWN(H26*$B$14,0) -> 131520 | J26: =MIN(I26,$I$14) -> 127000
A27: 1月 | B27: 12000 | H27: =SUM(B27:G27) -> 12000 | I27: =ROUNDDOWN(H27*$B$14,0) -> 131520 | J27: =MIN(I27,$I$14) -> 127000
A28: 2月 | B28: 12000 | H28: =SUM(B28:G28) -> 12000 | I28: =ROUNDDOWN(H28*$B$14,0) -> 131520 | J28: =MIN(I28,$I$14) -> 127000
A29: 3月 | B29: 12000 | H29: =SUM(B29:G29) -> 12000 | I29: =ROUNDDOWN(H29*$B$14,0) -> 131520 | J29: =MIN(I29,$I$14) -> 127000
A31: 年間サービス費 | D31: =SUM(J18:J29) -> 1519467 | E31: 円 ⇒別記第２号様式（所要額調書）に入力してください

Sheet 第１号様式（申請書）
A1: 別記第１号様式（第５条関係）
G2: 令和 | I2: 年 月 日
A3: 習志野市長 宛て
F4: 法人等名
F5: 法人所在地
F6: 代表者名
F7: 施設名
F8: 施設所在地
F9: 電話番号
F10: メールアドレス
F11: 担当者
A13: 習志野市障がい者グループホーム運営費補助金交付申請書
A15: 令和8年度習志野市障がい者グループホーム運営費補助金の交付について、習志野市補助金等交付規則及び習志野市障がい者グループホーム運営費補助金交付要綱により、次のとおり関係書類を添えて申請します。
J16: また、併せて実績を報告します。
A18: 記
A20: １．申請金額 | I20: 円
A21: ２．補助事業の完了予定日 | E21: 年 月 日
A22: ３．申請する事業内容 | E22: 別添のとおり
A23: ４．交付申請額内訳 | E23: 別添のとおり
A24: ５．添付書類 | E24: （１）習志野市障がい者グループホーム運営費補助金額所要額調書（別記第２号様式） （２）習志野市障がい者グループホーム運営費補助金収支予算書（別記第３号様式） （３）習志野市障がい者グループホーム運営費補助金年間サービス費算出シート （別記第４号様式） （４）習志野市障がい者グループホーム運営費補助金事業概要書（別記第５号様式）

Sheet 第５号様式(事業概要書)
A1: 別記第５号様式（第５条関係） | J1: 交付申請
G3: 法人等名 | H3: ='第１号様式（申請書）'!G4 -> 0
G4: 法人所在地 | H4: ='第１号様式（申請書）'!G5 -> 0
G5: 代表者名 | H5: ='第１号様式（申請書）'!G6 -> 0
G6: 施設名 | H6: ='第１号様式（申請書）'!G7 -> 0
G7: 施設所在地 | H7: ='第１号様式（申請書）'!G8 -> 0
G8: 電話番号 | H8: ='第１号様式（申請書）'!G9 -> 0
G9: メールアドレス | H9: ='第１号様式（申請書）'!G10 -> 0
G10: 担当者 | H10: ='第１号様式（申請書）'!G11 -> 0
A12: 習志野市障がい者グループホーム運営費補助金事業概要書
A14: 1 | B14: 設置年月日
A16: 2 | B16: 人員及び勤務形態
B17: 職種 勤務形態 | D17: 管理者 | E17: サービス管理 責任者 | J17: 計
B18: 人員 | C18: 常勤 | J18: =SUM(D18:I18) -> 0
C19: 非常勤 | J19: =SUM(D19:I19) -> 0
C20: 計 | D20: =SUM(D18:D19) -> 0 | E20: =SUM(E18:E19) -> 0 | F20: =SUM(F18:F19) -> 0 | G20: =SUM(G18:G19) -> 0 | H20: =SUM(H18:H19) -> 0 | I20: =SUM(I18:I19) -> 0 | J20: =SUM(J18:J19) -> 0
A22: 3 | B22: 事業内容
B23: 事業目的
B29: 事業計画・内容等

Sheet 第２号様式（所要額調書）
A1: 別記第２号様式（第５条関係） | U1: 交付申請
A3: 習志野市障がい者グループホーム運営費補助金額所要額調書
P4: 法人等名 | R4: ='第１号様式（申請書）'!G4 -> 0
P5: 施設名 | R5: ='第１号様式（申請書）'!G7 -> 0
P6: 施設所在地 | R6: ='第１号様式（申請書）'!G8 -> 0
A8: 1.補助金所要額 | U8: （単位:円）
A9: 対象者数（実人数） | C9: 対象経費 | N9: 補助基準額計 （注1） D | P9: 補助所要額 （CとDを比較し て少ない額） E | R9: 備考
C11: 対象経費の 支出予定額 A | J11: 収入予定額 （【別記第３号様式（収支予算書）】の 年間サービス費と寄付金の合計） B | L11: 差引額 C（A-B）
C15: ='第３号様式（収支予算書）'!C43 -> 0 | L15: =C15-J15 -> 0 | N15: =U64 -> 0 | P15: =MIN(L15:O15) -> 0
A18: 注1．Ａの対象経費の支出予定額の欄には、収支予算書の「支出」の合計金額が入る。
A19: 注2．Dの補助基準額計欄には、「2.対象者の内訳」の「⑥補助額」が入る。
A21: 2.対象者の内訳 | T21: （単位：円）
A22: № | B22: グループホーム の住居名 | C22: 世話人配置 （注2） | E22: 定員 （注2） | G22: 区分 （注2） | J22: 入居者氏名 （注1） | L22: ①利用延月数 （注3） | N22: ②補助基準額 （月額） | P22: ③補助基準額 （年額…①×②） | R22: ④年間サービス費 （注4） | T22: ⑤合 計 （③－④） | U22: ⑥補助額 （⑤がマイナスの入居者は0円換算）
A24: 1 | C24: 6:1 | D24: =VLOOKUP(C24,$C$73:$J$78,2,FALSE) -> 3 | E24: 4人以下 | F24: =VLOOKUP(E24,$E$73:$J$78,2,FALSE) -> 1 | G24: 0 | H24: =VLOOKUP(G24,$G$73:$H$78,2,FALSE) -> #N/A | I24: =D24&F24&H24 -> #N/A | N24: =IFERROR(VLOOKUP(I24,$C$84:$D$137,2,FALSE),0) -> 0 | P24: =L24*N24 -> 0 | R24: ='第４号様式（年間サービス費）1'!D31 -> 0 | T24: =SUM(L24*N24-R24) -> 0 | U24: =MAX(T24,0) -> 0
A26: 2 | C26: 6:1 | D26: =VLOOKUP(C26,$C$73:$J$78,2,FALSE) -> 3 | E26: 4人以下 | F26: =VLOOKUP(E26,$E$73:$J$78,2,FALSE) -> 1 | G26: 0 | H26: =VLOOKUP(G26,$G$73:$H$78,2,FALSE) -> #N/A | I26: =D26&F26&H26 -> #N/A | N26: =IFERROR(VLOOKUP(I26,$C$84:$D$137,2,FALSE),0) -> 0 | P26: =L26*N26 -> 0 | R26: ='2'!D31 -> 0 | T26: =SUM(L26*N26-R26) -> 0 | U26: =MAX(T26,0) -> 0
A28: 3 | C28: 6:1 | D28: =VLOOKUP(C28,$C$73:$J$78,2,FALSE) -> 3 | E28: 4人以下 | F28: =VLOOKUP(E28,$E$73:$J$78,2,FALSE) -> 1 | G28: 0 | H28: =VLOOKUP(G28,$G$73:$H$78,2,FALSE) -> #N/A | I28: =D28&F28&H28 -> #N/A | N28: =IFERROR(VLOOKUP(I28,$C$84:$D$137,2,FALSE),0) -> 0 | P28: =L28*N28 -> 0 | R28: ='3'!D31 -> 0 | T28: =SUM(L28*N28-R28) -> 0 | U28: =MAX(T28,0) -> 0
A30: 4 | C30: 6:1 | D30: =VLOOKUP(C30,$C$73:$J$78,2,FALSE) -> 3 | E30: 4人以下 | F30: =VLOOKUP(E30,$E$73:$J$78,2,FALSE) -> 1 | G30: 0 | H30: =VLOOKUP(G30,$G$73:$H$78,2,FALSE) -> #N/A | I30: =D30&F30&H30 -> #N/A | N30: =IFERROR(VLOOKUP(I30,$C$84:$D$137,2,FALSE),0) -> 0 | P30: =L30*N30 -> 0 | R30: ='4'!D31 -> 0 | T30: =SUM(L30*N30-R30) -> 0 | U30: =MAX(T30,0) -> 0
A32: 5 | C32: 6:1 | D32: =VLOOKUP(C32,$C$73:$J$78,2,FALSE) -> 3 | E32: 4人以下 | F32: =VLOOKUP(E32,$E$73:$J$78,2,FALSE) -> 1 | G32: 0 | H32: =VLOOKUP(G32,$G$73:$H$78,2,FALSE) -> #N/A | I32: =D32&F32&H32 -> #N/A | N32: =IFERROR(VLOOKUP(I32,$C$84:$D$137,2,FALSE),0) -> 0 | P32: =L32*N32 -> 0 | R32: ='5'!D31 -> 0 | T32: =SUM(L32*N32-R32) -> 0 | U32: =MAX(T32,0) -> 0
A34: 6 | C34: 6:1 | D34: =VLOOKUP(C34,$C$73:$J$78,2,FALSE) -> 3 | E34: 4人以下 | F34: =VLOOKUP(E34,$E$73:$J$78,2,FALSE) -> 1 | G34: 0 | H34: =VLOOKUP(G34,$G$73:$H$78,2,FALSE) -> #N/A | I34: =D34&F34&H34 -> #N/A | N34: =IFERROR(VLOOKUP(I34,$C$84:$D$137,2,FALSE),0) -> 0 | P34: =L34*N34 -> 0 | R34: ='6'!D31 -> 0 | T34: =SUM(L34*N34-R34) -> 0 | U34: =MAX(T34,0) -> 0
A36: 7 | C36: 6:1 | D36: =VLOOKUP(C36,$C$73:$J$78,2,FALSE) -> 3 | E36: 4人以下 | F36: =VLOOKUP(E36,$E$73:$J$78,2,FALSE) -> 1 | G36: 0 | H36: =VLOOKUP(G36,$G$73:$H$78,2,FALSE) -> #N/A | I36: =D36&F36&H36 -> #N/A | N36: =IFERROR(VLOOKUP(I36,$C$84:$D$137,2,FALSE),0) -> 0 | P36: =L36*N36 -> 0 | R36: ='7'!D31 -> 0 | T36: =SUM(L36*N36-R36) -> 0 | U36: =MAX(T36,0) -> 0
A38: 8 | C38: 6:1 | D38: =VLOOKUP(C38,$C$73:$J$78,2,FALSE) -> 3 | E38: 4人以下 | F38: =VLOOKUP(E38,$E$73:$J$78,2,FALSE) -> 1 | G38: 0 | H38: =VLOOKUP(G38,$G$73:$H$78,2,FALSE) -> #N/A | I38: =D38&F38&H38 -> #N/A | N38: =IFERROR(VLOOKUP(I38,$C$84:$D$137,2,FALSE),0) -> 0 | P38: =L38*N38 -> 0 | R38: ='8'!D31 -> 0 | T38: =SUM(L38*N38-R38) -> 0 | U38: =MAX(T38,0) -> 0
A40: 9 | C40: 6:1 | D40: =VLOOKUP(C40,$C$73:$J$78,2,FALSE) -> 3 | E40: 4人以下 | F40: =VLOOKUP(E40,$E$73:$J$78,2,FALSE) -> 1 | G40: 0 | H40: =VLOOKUP(G40,$G$73:$H$78,2,FALSE) -> #N/A | I40: =D40&F40&H40 -> #N/A | N40: =IFERROR(VLOOKUP(I40,$C$84:$D$137,2,FALSE),0) -> 0 | P40: =L40*N40 -> 0 | R40: ='9'!D31 -> 0 | T40: =SUM(L40*N40-R40) -> 0 | U40: =MAX(T40,0) -> 0
A42: 10 | C42: 6:1 | D42: =VLOOKUP(C42,$C$73:$J$78,2,FALSE) -> 3 | E42: 4人以下 | F42: =VLOOKUP(E42,$E$73:$J$78,2,FALSE) -> 1 | G42: 0 | H42: =VLOOKUP(G42,$G$73:$H$78,2,FALSE) -> #N/A | I42: =D42&F42&H42 -> #N/A | N42: =IFERROR(VLOOKUP(I42,$C$84:$D$137,2,FALSE),0) -> 0 | P42: =L42*N42 -> 0 | R42: ='10'!D31 -> 0 | T42: =SUM(L42*N42-R42) -> 0 | U42: =MAX(T42,0) -> 0
A44: 11 | C44: 6:1 | D44: =VLOOKUP(C44,$C$73:$J$78,2,FALSE) -> 3 | E44: 4人以下 | F44: =VLOOKUP(E44,$E$73:$J$78,2,FALSE) -> 1 | G44: 0 | H44: =VLOOKUP(G44,$G$73:$H$78,2,FALSE) -> #N/A | I44: =D44&F44&H44 -> #N/A | N44: =IFERROR(VLOOKUP(I44,$C$84:$D$137,2,FALSE),0) -> 0 | P44: =L44*N44 -> 0 | R44: ='11'!D31 -> 0 | T44: =SUM(L44*N44-R44) -> 0 | U44: =MAX(T44,0) -> 0
A46: 12 | C46: 6:1 | D46: =VLOOKUP(C46,$C$73:$J$78,2,FALSE) -> 3 | E46: 4人以下 | F46: =VLOOKUP(E46,$E$73:$J$78,2,FALSE) -> 1 | G46: 0 | H46: =VLOOKUP(G46,$G$73:$H$78,2,FALSE) -> #N/A | I46: =D46&F46&H46 -> #N/A | N46: =IFERROR(VLOOKUP(I46,$C$84:$D$137,2,FALSE),0) -> 0 | P46: =L46*N46 -> 0 | R46: ='12'!D31 -> 0 | T46: =SUM(L46*N46-R46) -> 0 | U46: =MAX(T46,0) -> 0
A48: 13 | C48: 6:1 | D48: =VLOOKUP(C48,$C$73:$J$78,2,FALSE) -> 3 | E48: 4人以下 | F48: =VLOOKUP(E48,$E$73:$J$78,2,FALSE) -> 1 | G48: 0 | H48: =VLOOKUP(G48,$G$73:$H$78,2,FALSE) -> #N/A | I48: =D48&F48&H48 -> #N/A | N48: =IFERROR(VLOOKUP(I48,$C$84:$D$137,2,FALSE),0) -> 0 | P48: =L48*N48 -> 0 | R48: ='13'!D31 -> 0 | T48: =SUM(L48*N48-R48) -> 0 | U48: =MAX(T48,0) -> 0
A50: 14 | C50: 6:1 | D50: =VLOOKUP(C50,$C$73:$J$78,2,FALSE) -> 3 | E50: 4人以下 | F50: =VLOOKUP(E50,$E$73:$J$78,2,FALSE) -> 1 | G50: 0 | H50: =VLOOKUP(G50,$G$73:$H$78,2,FALSE) -> #N/A | I50: =D50&F50&H50 -> #N/A | N50: =IFERROR(VLOOKUP(I50,$C$84:$D$137,2,FALSE),0) -> 0 | P50: =L50*N50 -> 0 | R50: ='14'!D31 -> 0 | T50: =SUM(L50*N50-R50) -> 0 | U50: =MAX(T50,0) -> 0
A52: 15 | C52: 6:1 | D52: =VLOOKUP(C52,$C$73:$J$78,2,FALSE) -> 3 | E52: 4人以下 | F52: =VLOOKUP(E52,$E$73:$J$78,2,FALSE) -> 1 | G52: 0 | H52: =VLOOKUP(G52,$G$73:$H$78,2,FALSE) -> #N/A | I52: =D52&F52&H52 -> #N/A | N52: =IFERROR(VLOOKUP(I52,$C$84:$D$137,2,FALSE),0) -> 0 | P52: =L52*N52 -> 0 | R52: ='15'!D31 -> 0 | T52: =SUM(L52*N52-R52) -> 0 | U52: =MAX(T52,0) -> 0
A54: 16 | C54: 6:1 | D54: =VLOOKUP(C54,$C$73:$J$78,2,FALSE) -> 3 | E54: 4人以下 | F54: =VLOOKUP(E54,$E$73:$J$78,2,FALSE) -> 1 | G54: 0 | H54: =VLOOKUP(G54,$G$73:$H$78,2,FALSE) -> #N/A | I54: =D54&F54&H54 -> #N/A | N54: =IFERROR(VLOOKUP(I54,$C$84:$D$137,2,FALSE),0) -> 0 | P54: =L54*N54 -> 0 | R54: ='16'!D31 -> 0 | T54: =SUM(L54*N54-R54) -> 0 | U54: =MAX(T54,0) -> 0
A56: 17 | C56: 6:1 | D56: =VLOOKUP(C56,$C$73:$J$78,2,FALSE) -> 3 | E56: 4人以下 | F56: =VLOOKUP(E56,$E$73:$J$78,2,FALSE) -> 1 | G56: 0 | H56: =VLOOKUP(G56,$G$73:$H$78,2,FALSE) -> #N/A | I56: =D56&F56&H56 -> #N/A | N56: =IFERROR(VLOOKUP(I56,$C$84:$D$137,2,FALSE),0) -> 0 | P56: =L56*N56 -> 0 | R56: ='17'!D31 -> 0 | T56: =SUM(L56*N56-R56) -> 0 | U56: =MAX(T56,0) -> 0
A58: 18 | C58: 6:1 | D58: =VLOOKUP(C58,$C$73:$J$78,2,FALSE) -> 3 | E58: 4人以下 | F58: =VLOOKUP(E58,$E$73:$J$78,2,FALSE) -> 1 | G58: 0 | H58: =VLOOKUP(G58,$G$73:$H$78,2,FALSE) -> #N/A | I58: =D58&F58&H58 -> #N/A | N58: =IFERROR(VLOOKUP(I58,$C$84:$D$137,2,FALSE),0) -> 0 | P58: =L58*N58 -> 0 | R58: ='18'!D31 -> 0 | T58: =SUM(L58*N58-R58) -> 0 | U58: =MAX(T58,0) -> 0
A60: 19 | C60: 6:1 | D60: =VLOOKUP(C60,$C$73:$J$78,2,FALSE) -> 3 | E60: 4人以下 | F60: =VLOOKUP(E60,$E$73:$J$78,2,FALSE) -> 1 | G60: 0 | H60: =VLOOKUP(G60,$G$73:$H$78,2,FALSE) -> #N/A | I60: =D60&F60&H60 -> #N/A | N60: =IFERROR(VLOOKUP(I60,$C$84:$D$137,2,FALSE),0) -> 0 | P60: =L60*N60 -> 0 | R60: ='19'!D31 -> 0 | T60: =SUM(L60*N60-R60) -> 0 | U60: =MAX(T60,0) -> 0
A62: 20 | C62: 6:1 | D62: =VLOOKUP(C62,$C$73:$J$78,2,FALSE) -> 3 | E62: 4人以下 | F62: =VLOOKUP(E62,$E$73:$J$78,2,FALSE) -> 1 | G62: 0 | H62: =VLOOKUP(G62,$G$73:$H$78,2,FALSE) -> #N/A | I62: =D62&F62&H62 -> #N/A | N62: =IFERROR(VLOOKUP(I62,$C$84:$D$137,2,FALSE),0) -> 0 | P62: =L62*N62 -> 0 | R62: ='20'!D31 -> 0 | T62: =SUM(L62*N62-R62) -> 0 | U62: =MAX(T62,0) -> 0
A64: 計 | P64: =SUM(P24:Q63) -> 0 | R64: =SUM(R24:S63) -> 0 | T64: =SUM(T24:T63) -> 0 | U64: =SUM(U24:U63) -> 0
A66: 注1．入居者ごとに行を分けて入力すること。（年度途中で世話人配置、定員、区分が変わった場合は、更に行を分けて入力すること。）
A67: 注2．世話人配置、定員、障害支援区分は、月の初日の状況を適用するものとする。
A68: 注3．入居者が月の途中で入退去した場合は日割計算を行い、小数点以下第2位まで算出する。（小数点第3位以下を切り捨て。）
A69: （例:4月1日～8月13日までの利用の場合、8月は13日÷31日＝0.419のため、4.41月となる。）
A70: 注4．「④年間サービス費」の欄には共同生活援助サービス費、入院時支援特別加算、長期入院時支援特別加算、帰宅時支援加算、長期帰宅時支援加算の合計額を入力する。
A71: 別記第４号様式（年間サービス費算出シート）を使って算出すること。
...

Sheet 第３号様式（収支予算書）
A1: 別記第３号様式（第５条関係）
A3: 習志野市障がい者グループホーム運営費補助金収支予算書
A7: 収入
A8: 科目 | C8: 金額（円） | D8: 説明
A9: 自立支援給付費 | B9: 年間サービス費 | D9: ※第２号様式参照
B10: 年間サービス費以外の加算
A11: 補助金収入 | B11: 習志野市運営費補助金
B12: 県開設支援費補助金等
A13: 寄付金等 | B13: 寄付金 | D13: ※第２号様式参照
A14: その他 | B14: 自立支援給付費の利用者負担（1割負担）
B15: 法人繰入金
A18: 合計 | C18: =SUM(C9:C17) -> 0
A22: 支出
A23: 科目 | C23: 金額（円） | D23: 説明
A24: 人件費 | B24: 給与手当・賞与
B25: 法定福利費
B26: 福利厚生費
A28: 事業費 | B28: 旅費交通費
B29: 通信費
B30: 燃料費
B31: 事務用品費
B32: 諸会費
B33: 保険料
B34: 消耗品費
B35: 新聞図書費
B36: 管理諸費
B37: 研修費
B38: 租税公課
B39: 予備費
A43: 合計 | C43: =SUM(C24:C42) -> 0
A44: ・習志野市が支給決定した入居者の分のみを記載しています。
A45: ・対象経費は、名称、種別、理由の如何を問わず、ホームの 運営に要する人件費、運営費等とし、
A46: 建設費、修繕費、 住居の入居者が負担する食材料費・家賃・光熱水費等は含んでおりません。
B49: 法人所在地 | C49: ='第１号様式（申請書）'!G5 -> 0
B50: 法人名 | C50: ='第１号様式（申請書）'!G4 -> 0
B51: 代表者職・氏名 | C51: ='第１号様式（申請書）'!G6 -> 0
B52: 施設名 | C52: ='第１号様式（申請書）'!G7 -> 0
B53: 施設所在地 | C53: ='第１号様式（申請書）'!G8 -> 0
B54: 電話番号 | C54: ='第１号様式（申請書）'!G9 -> 0
B55: 管理者

Sheet 第４号様式（年間サービス費）1
A1: 別記第４号様式（第５条及び第７条関係） | J1: 交付申請
A3: 習志野市障がい者グループホーム運営費補助金年間サービス費算出シート | H3: 法人等名 | I3: ='第１号様式（申請書）'!G4 -> 0
A4: 【別記第２号様式（所要額調書）】の「④年間サービス費」の算出のため、入居者ごとに作成してください。 | H4: 施設名 | I4: ='第１号様式（申請書）'!G7 -> 0
A5: ※世話人配置、定員、区分が変わった場合は、シートを分けてください | H5: 施設所在地 | I5: ='第１号様式（申請書）'!G8 -> 0
A7: 入力の手順
A8: 1 地域単価を入力します。
A9: 2 国保連の請求明細書を基に各月のサービス単位数を入力します。
A10: 3 月間単位数、月間単位数×地域単価、月間サービス費、年間サービス費が自動計算されます。
A11: 4 月間単位数×地域単価が補助基準額（月額）を上回った月は、補助基準額（月額）が月間サービス費となります。
A12: 5 年合計サービス費を【別記第２号様式（所要額調書）】に入力してください。
A14: 地域単価 | C14: 円 | E14: 入居者氏名 | F14: ='第２号様式（所要額調書）'!J24 -> 0 | G14: №1 | H14: 補助基準額（月額） | I14: ='第２号様式（所要額調書）'!N24 -> 0 | J14: 円
A16: サービス提供月 | B16: サービス単位数（単位） | H16: 月間単位数 （単位） | I16: 月間単位数× 地域単価(円) | J16: 月間サービス費 （円）
B17: 共同生活援助サービス費 | C17: 人員配置体制加算 | D17: 入院時支援特別加算 | E17: 長期入院時支援特別加算 | F17: 帰宅時支援加算 | G17: 長期帰宅時支援加算
A18: 4月 | H18: =SUM(B18:G18) -> 0 | I18: =ROUNDDOWN(H18*$B$14,0) -> 0 | J18: =MIN(I18,$I$14) -> 0
A19: 5月 | H19: =SUM(B19:G19) -> 0 | I19: =ROUNDDOWN(H19*$B$14,0) -> 0 | J19: =MIN(I19,$I$14) -> 0
A20: 6月 | H20: =SUM(B20:G20) -> 0 | I20: =ROUNDDOWN(H20*$B$14,0) -> 0 | J20: =MIN(I20,$I$14) -> 0
A21: 7月 | H21: =SUM(B21:G21) -> 0 | I21: =ROUNDDOWN(H21*$B$14,0) -> 0 | J21: =MIN(I21,$I$14) -> 0
A22: 8月 | H22: =SUM(B22:G22) -> 0 | I22: =ROUNDDOWN(H22*$B$14,0) -> 0 | J22: =MIN(I22,$I$14) -> 0
A23: 9月 | H23: =SUM(B23:G23) -> 0 | I23: =ROUNDDOWN(H23*$B$14,0) -> 0 | J23: =MIN(I23,$I$14) -> 0
A24: 10月 | H24: =SUM(B24:G24) -> 0 | I24: =ROUNDDOWN(H24*$B$14,0) -> 0 | J24: =MIN(I24,$I$14) -> 0
A25: 11月 | H25: =SUM(B25:G25) -> 0 | I25: =ROUNDDOWN(H25*$B$14,0) -> 0 | J25: =MIN(I25,$I$14) -> 0
A26: 12月 | H26: =SUM(B26:G26) -> 0 | I26: =ROUNDDOWN(H26*$B$14,0) -> 0 | J26: =MIN(I26,$I$14) -> 0
A27: 1月 | H27: =SUM(B27:G27) -> 0 | I27: =ROUNDDOWN(H27*$B$14,0) -> 0 | J27: =MIN(I27,$I$14) -> 0
A28: 2月 | H28: =SUM(B28:G28) -> 0 | I28: =ROUNDDOWN(H28*$B$14,0) -> 0 | J28: =MIN(I28,$I$14) -> 0
A29: 3月 | H29: =SUM(B29:G29) -> 0 | I29: =ROUNDDOWN(H29*$B$14,0) -> 0 | J29: =MIN(I29,$I$14) -> 0
A31: 年間サービス費 | D31: =SUM(J18:J29) -> 0 | E31: 円 ⇒別記第２号様式（所要額調書）に入力してください

Sheet 2
A1: 別記第４号様式（第５条及び第７条関係） | J1: 交付申請
A3: 習志野市障がい者グループホーム運営費補助金年間サービス費算出シート | H3: 法人等名 | I3: ='第１号様式（申請書）'!G4 -> 0
A4: 【別記第２号様式（所要額調書）】の「④年間サービス費」の算出のため、入居者ごとに作成してください。 | H4: 施設名 | I4: ='第１号様式（申請書）'!G7 -> 0
A5: ※世話人配置、定員、区分が変わった場合は、シートを分けてください | H5: 施設所在地 | I5: ='第１号様式（申請書）'!G8 -> 0
A7: 入力の手順
A8: 1 地域単価を入力します。
A9: 2 国保連の請求明細書を基に各月のサービス単位数を入力します。
A10: 3 月間単位数、月間単位数×地域単価、月間サービス費、年間サービス費が自動計算されます。
A11: 4 月間単位数×地域単価が補助基準額（月額）を上回った月は、補助基準額（月額）が月間サービス費となります。
A12: 5 年合計サービス費を【別記第２号様式（所要額調書）】に入力してください。
A14: 地域単価 | C14: 円 | E14: 入居者氏名 | F14: ='第２号様式（所要額調書）'!J26 -> 0 | G14: №1 | H14: 補助基準額（月額） | I14: ='第２号様式（所要額調書）'!N26 -> 0 | J14: 円
A16: サービス提供月 | B16: サービス単位数（単位） | H16: 月間単位数 （単位） | I16: 月間単位数× 地域単価(円) | J16: 月間サービス費 （円）
B17: 共同生活援助サービス費 | C17: 人員配置体制加算 | D17: 入院時支援特別加算 | E17: 長期入院時支援特別加算 | F17: 帰宅時支援加算 | G17: 長期帰宅時支援加算
A18: 4月 | H18: =SUM(B18:G18) -> 0 | I18: =ROUNDDOWN(H18*$B$14,0) -> 0 | J18: =MIN(I18,$I$14) -> 0
A19: 5月 | H19: =SUM(B19:G19) -> 0 | I19: =ROUNDDOWN(H19*$B$14,0) -> 0 | J19: =MIN(I19,$I$14) -> 0
A20: 6月 | H20: =SUM(B20:G20) -> 0 | I20: =ROUNDDOWN(H20*$B$14,0) -> 0 | J20: =MIN(I20,$I$14) -> 0
A21: 7月 | H21: =SUM(B21:G21) -> 0 | I21: =ROUNDDOWN(H21*$B$14,0) -> 0 | J21: =MIN(I21,$I$14) -> 0
A22: 8月 | H22: =SUM(B22:G22) -> 0 | I22: =ROUNDDOWN(H22*$B$14,0) -> 0 | J22: =MIN(I22,$I$14) -> 0
A23: 9月 | H23: =SUM(B23:G23) -> 0 | I23: =ROUNDDOWN(H23*$B$14,0) -> 0 | J23: =MIN(I23,$I$14) -> 0
A24: 10月 | H24: =SUM(B24:G24) -> 0 | I24: =ROUNDDOWN(H24*$B$14,0) -> 0 | J24: =MIN(I24,$I$14) -> 0
A25: 11月 | H25: =SUM(B25:G25) -> 0 | I25: =ROUNDDOWN(H25*$B$14,0) -> 0 | J25: =MIN(I25,$I$14) -> 0
A26: 12月 | H26: =SUM(B26:G26) -> 0 | I26: =ROUNDDOWN(H26*$B$14,0) -> 0 | J26: =MIN(I26,$I$14) -> 0
A27: 1月 | H27: =SUM(B27:G27) -> 0 | I27: =ROUNDDOWN(H27*$B$14,0) -> 0 | J27: =MIN(I27,$I$14) -> 0
A28: 2月 | H28: =SUM(B28:G28) -> 0 | I28: =ROUNDDOWN(H28*$B$14,0) -> 0 | J28: =MIN(I28,$I$14) -> 0
A29: 3月 | H29: =SUM(B29:G29) -> 0 | I29: =ROUNDDOWN(H29*$B$14,0) -> 0 | J29: =MIN(I29,$I$14) -> 0
A31: 年間サービス費 | D31: =SUM(J18:J29) -> 0 | E31: 円 ⇒別記第２号様式（所要額調書）に入力してください

Sheet 3
A1: 別記第４号様式（第５条及び第７条関係） | J1: 交付申請
A3: 習志野市障がい者グループホーム運営費補助金年間サービス費算出シート | H3: 法人等名 | I3: ='第１号様式（申請書）'!G4 -> 0
A4: 【別記第２号様式（所要額調書）】の「④年間サービス費」の算出のため、入居者ごとに作成してください。 | H4: 施設名 | I4: ='第１号様式（申請書）'!G7 -> 0
A5: ※世話人配置、定員、区分が変わった場合は、シートを分けてください | H5: 施設所在地 | I5: ='第１号様式（申請書）'!G8 -> 0
A7: 入力の手順
A8: 1 地域単価を入力します。
A9: 2 国保連の請求明細書を基に各月のサービス単位数を入力します。
A10: 3 月間単位数、月間単位数×地域単価、月間サービス費、年間サービス費が自動計算されます。
A11: 4 月間単位数×地域単価が補助基準額（月額）を上回った月は、補助基準額（月額）が月間サービス費となります。
A12: 5 年合計サービス費を【別記第２号様式（所要額調書）】に入力してください。
A14: 地域単価 | C14: 円 | E14: 入居者氏名 | F14: ='第２号様式（所要額調書）'!J28 -> 0 | G14: №1 | H14: 補助基準額（月額） | I14: ='第２号様式（所要額調書）'!N28 -> 0 | J14: 円
A16: サービス提供月 | B16: サービス単位数（単位） | H16: 月間単位数 （単位） | I16: 月間単位数× 地域単価(円) | J16: 月間サービス費 （円）
B17: 共同生活援助サービス費 | C17: 人員配置体制加算 | D17: 入院時支援特別加算 | E17: 長期入院時支援特別加算 | F17: 帰宅時支援加算 | G17: 長期帰宅時支援加算
A18: 4月 | H18: =SUM(B18:G18) -> 0 | I18: =ROUNDDOWN(H18*$B$14,0) -> 0 | J18: =MIN(I18,$I$14) -> 0
A19: 5月 | H19: =SUM(B19:G19) -> 0 | I19: =ROUNDDOWN(H19*$B$14,0) -> 0 | J19: =MIN(I19,$I$14) -> 0
A20: 6月 | H20: =SUM(B20:G20) -> 0 | I20: =ROUNDDOWN(H20*$B$14,0) -> 0 | J20: =MIN(I20,$I$14) -> 0
A21: 7月 | H21: =SUM(B21:G21) -> 0 | I21: =ROUNDDOWN(H21*$B$14,0) -> 0 | J21: =MIN(I21,$I$14) -> 0
A22: 8月 | H22: =SUM(B22:G22) -> 0 | I22: =ROUNDDOWN(H22*$B$14,0) -> 0 | J22: =MIN(I22,$I$14) -> 0
A23: 9月 | H23: =SUM(B23:G23) -> 0 | I23: =ROUNDDOWN(H23*$B$14,0) -> 0 | J23: =MIN(I23,$I$14) -> 0
A24: 10月 | H24: =SUM(B24:G24) -> 0 | I24: =ROUNDDOWN(H24*$B$14,0) -> 0 | J24: =MIN(I24,$I$14) -> 0
A25: 11月 | H25: =SUM(B25:G25) -> 0 | I25: =ROUNDDOWN(H25*$B$14,0) -> 0 | J25: =MIN(I25,$I$14) -> 0
A26: 12月 | H26: =SUM(B26:G26) -> 0 | I26: =ROUNDDOWN(H26*$B$14,0) -> 0 | J26: =MIN(I26,$I$14) -> 0
A27: 1月 | H27: =SUM(B27:G27) -> 0 | I27: =ROUNDDOWN(H27*$B$14,0) -> 0 | J27: =MIN(I27,$I$14) -> 0
A28: 2月 | H28: =SUM(B28:G28) -> 0 | I28: =ROUNDDOWN(H28*$B$14,0) -> 0 | J28: =MIN(I28,$I$14) -> 0
A29: 3月 | H29: =SUM(B29:G29) -> 0 | I29: =ROUNDDOWN(H29*$B$14,0) -> 0 | J29: =MIN(I29,$I$14) -> 0
A31: 年間サービス費 | D31: =SUM(J18:J29) -> 0 | E31: 円 ⇒別記第２号様式（所要額調書）に入力してください

Sheet 4
A1: 別記第４号様式（第５条及び第７条関係） | J1: 交付申請
A3: 習志野市障がい者グループホーム運営費補助金年間サービス費算出シート | H3: 法人等名 | I3: ='第１号様式（申請書）'!G4 -> 0
A4: 【別記第２号様式（所要額調書）】の「④年間サービス費」の算出のため、入居者ごとに作成してください。 | H4: 施設名 | I4: ='第１号様式（申請書）'!G7 -> 0
A5: ※世話人配置、定員、区分が変わった場合は、シートを分けてください | H5: 施設所在地 | I5: ='第１号様式（申請書）'!G8 -> 0
A7: 入力の手順
A8: 1 地域単価を入力します。
A9: 2 国保連の請求明細書を基に各月のサービス単位数を入力します。
A10: 3 月間単位数、月間単位数×地域単価、月間サービス費、年間サービス費が自動計算されます。
A11: 4 月間単位数×地域単価が補助基準額（月額）を上回った月は、補助基準額（月額）が月間サービス費となります。
A12: 5 年合計サービス費を【別記第２号様式（所要額調書）】に入力してください。
A14: 地域単価 | C14: 円 | E14: 入居者氏名 | F14: ='第２号様式（所要額調書）'!J30 -> 0 | G14: №1 | H14: 補助基準額（月額） | I14: ='第２号様式（所要額調書）'!N30 -> 0 | J14: 円
A16: サービス提供月 | B16: サービス単位数（単位） | H16: 月間単位数 （単位） | I16: 月間単位数× 地域単価(円) | J16: 月間サービス費 （円）
B17: 共同生活援助サービス費 | C17: 人員配置体制加算 | D17: 入院時支援特別加算 | E17: 長期入院時支援特別加算 | F17: 帰宅時支援加算 | G17: 長期帰宅時支援加算
A18: 4月 | H18: =SUM(B18:G18) -> 0 | I18: =ROUNDDOWN(H18*$B$14,0) -> 0 | J18: =MIN(I18,$I$14) -> 0
A19: 5月 | H19: =SUM(B19:G19) -> 0 | I19: =ROUNDDOWN(H19*$B$14,0) -> 0 | J19: =MIN(I19,$I$14) -> 0
A20: 6月 | H20: =SUM(B20:G20) -> 0 | I20: =ROUNDDOWN(H20*$B$14,0) -> 0 | J20: =MIN(I20,$I$14) -> 0
A21: 7月 | H21: =SUM(B21:G21) -> 0 | I21: =ROUNDDOWN(H21*$B$14,0) -> 0 | J21: =MIN(I21,$I$14) -> 0
A22: 8月 | H22: =SUM(B22:G22) -> 0 | I22: =ROUNDDOWN(H22*$B$14,0) -> 0 | J22: =MIN(I22,$I$14) -> 0
A23: 9月 | H23: =SUM(B23:G23) -> 0 | I23: =ROUNDDOWN(H23*$B$14,0) -> 0 | J23: =MIN(I23,$I$14) -> 0
A24: 10月 | H24: =SUM(B24:G24) -> 0 | I24: =ROUNDDOWN(H24*$B$14,0) -> 0 | J24: =MIN(I24,$I$14) -> 0
A25: 11月 | H25: =SUM(B25:G25) -> 0 | I25: =ROUNDDOWN(H25*$B$14,0) -> 0 | J25: =MIN(I25,$I$14) -> 0
A26: 12月 | H26: =SUM(B26:G26) -> 0 | I26: =ROUNDDOWN(H26*$B$14,0) -> 0 | J26: =MIN(I26,$I$14) -> 0
A27: 1月 | H27: =SUM(B27:G27) -> 0 | I27: =ROUNDDOWN(H27*$B$14,0) -> 0 | J27: =MIN(I27,$I$14) -> 0
A28: 2月 | H28: =SUM(B28:G28) -> 0 | I28: =ROUNDDOWN(H28*$B$14,0) -> 0 | J28: =MIN(I28,$I$14) -> 0
A29: 3月 | H29: =SUM(B29:G29) -> 0 | I29: =ROUNDDOWN(H29*$B$14,0) -> 0 | J29: =MIN(I29,$I$14) -> 0
A31: 年間サービス費 | D31: =SUM(J18:J29) -> 0 | E31: 円 ⇒別記第２号様式（所要額調書）に入力してください

Sheet 5
A1: 別記第４号様式（第５条及び第７条関係） | J1: 交付申請
A3: 習志野市障がい者グループホーム運営費補助金年間サービス費算出シート | H3: 法人等名 | I3: ='第１号様式（申請書）'!G4 -> 0
A4: 【別記第２号様式（所要額調書）】の「④年間サービス費」の算出のため、入居者ごとに作成してください。 | H4: 施設名 | I4: ='第１号様式（申請書）'!G7 -> 0
A5: ※世話人配置、定員、区分が変わった場合は、シートを分けてください | H5: 施設所在地 | I5: ='第１号様式（申請書）'!G8 -> 0
A7: 入力の手順
A8: 1 地域単価を入力します。
A9: 2 国保連の請求明細書を基に各月のサービス単位数を入力します。
A10: 3 月間単位数、月間単位数×地域単価、月間サービス費、年間サービス費が自動計算されます。
A11: 4 月間単位数×地域単価が補助基準額（月額）を上回った月は、補助基準額（月額）が月間サービス費となります。
A12: 5 年合計サービス費を【別記第２号様式（所要額調書）】に入力してください。
A14: 地域単価 | C14: 円 | E14: 入居者氏名 | F14: ='第２号様式（所要額調書）'!J32 -> 0 | G14: №1 | H14: 補助基準額（月額） | I14: ='第２号様式（所要額調書）'!N32 -> 0 | J14: 円
A16: サービス提供月 | B16: サービス単位数（単位） | H16: 月間単位数 （単位） | I16: 月間単位数× 地域単価(円) | J16: 月間サービス費 （円）
B17: 共同生活援助サービス費 | C17: 人員配置体制加算 | D17: 入院時支援特別加算 | E17: 長期入院時支援特別加算 | F17: 帰宅時支援加算 | G17: 長期帰宅時支援加算
A18: 4月 | H18: =SUM(B18:G18) -> 0 | I18: =ROUNDDOWN(H18*$B$14,0) -> 0 | J18: =MIN(I18,$I$14) -> 0
A19: 5月 | H19: =SUM(B19:G19) -> 0 | I19: =ROUNDDOWN(H19*$B$14,0) -> 0 | J19: =MIN(I19,$I$14) -> 0
A20: 6月 | H20: =SUM(B20:G20) -> 0 | I20: =ROUNDDOWN(H20*$B$14,0) -> 0 | J20: =MIN(I20,$I$14) -> 0
A21: 7月 | H21: =SUM(B21:G21) -> 0 | I21: =ROUNDDOWN(H21*$B$14,0) -> 0 | J21: =MIN(I21,$I$14) -> 0
A22: 8月 | H22: =SUM(B22:G22) -> 0 | I22: =ROUNDDOWN(H22*$B$14,0) -> 0 | J22: =MIN(I22,$I$14) -> 0
A23: 9月 | H23: =SUM(B23:G23) -> 0 | I23: =ROUNDDOWN(H23*$B$14,0) -> 0 | J23: =MIN(I23,$I$14) -> 0
A24: 10月 | H24: =SUM(B24:G24) -> 0 | I24: =ROUNDDOWN(H24*$B$14,0) -> 0 | J24: =MIN(I24,$I$14) -> 0
A25: 11月 | H25: =SUM(B25:G25) -> 0 | I25: =ROUNDDOWN(H25*$B$14,0) -> 0 | J25: =MIN(I25,$I$14) -> 0
A26: 12月 | H26: =SUM(B26:G26) -> 0 | I26: =ROUNDDOWN(H26*$B$14,0) -> 0 | J26: =MIN(I26,$I$14) -> 0
A27: 1月 | H27: =SUM(B27:G27) -> 0 | I27: =ROUNDDOWN(H27*$B$14,0) -> 0 | J27: =MIN(I27,$I$14) -> 0
A28: 2月 | H28: =SUM(B28:G28) -> 0 | I28: =ROUNDDOWN(H28*$B$14,0) -> 0 | J28: =MIN(I28,$I$14) -> 0
A29: 3月 | H29: =SUM(B29:G29) -> 0 | I29: =ROUNDDOWN(H29*$B$14,0) -> 0 | J29: =MIN(I29,$I$14) -> 0
A31: 年間サービス費 | D31: =SUM(J18:J29) -> 0 | E31: 円 ⇒別記第２号様式（所要額調書）に入力してください

Sheet 6
A1: 別記第４号様式（第５条及び第７条関係） | J1: 交付申請
A3: 習志野市障がい者グループホーム運営費補助金年間サービス費算出シート | H3: 法人等名 | I3: ='第１号様式（申請書）'!G4 -> 0
A4: 【別記第２号様式（所要額調書）】の「④年間サービス費」の算出のため、入居者ごとに作成してください。 | H4: 施設名 | I4: ='第１号様式（申請書）'!G7 -> 0
A5: ※世話人配置、定員、区分が変わった場合は、シートを分けてください | H5: 施設所在地 | I5: ='第１号様式（申請書）'!G8 -> 0
A7: 入力の手順
A8: 1 地域単価を入力します。
A9: 2 国保連の請求明細書を基に各月のサービス単位数を入力します。
A10: 3 月間単位数、月間単位数×地域単価、月間サービス費、年間サービス費が自動計算されます。
A11: 4 月間単位数×地域単価が補助基準額（月額）を上回った月は、補助基準額（月額）が月間サービス費となります。
A12: 5 年合計サービス費を【別記第２号様式（所要額調書）】に入力してください。
A14: 地域単価 | C14: 円 | E14: 入居者氏名 | F14: ='第２号様式（所要額調書）'!J34 -> 0 | G14: №1 | H14: 補助基準額（月額） | I14: ='第２号様式（所要額調書）'!N34 -> 0 | J14: 円
A16: サービス提供月 | B16: サービス単位数（単位） | H16: 月間単位数 （単位） | I16: 月間単位数× 地域単価(円) | J16: 月間サービス費 （円）
B17: 共同生活援助サービス費 | C17: 人員配置体制加算 | D17: 入院時支援特別加算 | E17: 長期入院時支援特別加算 | F17: 帰宅時支援加算 | G17: 長期帰宅時支援加算
A18: 4月 | H18: =SUM(B18:G18) -> 0 | I18: =ROUNDDOWN(H18*$B$14,0) -> 0 | J18: =MIN(I18,$I$14) -> 0
A19: 5月 | H19: =SUM(B19:G19) -> 0 | I19: =ROUNDDOWN(H19*$B$14,0) -> 0 | J19: =MIN(I19,$I$14) -> 0
A20: 6月 | H20: =SUM(B20:G20) -> 0 | I20: =ROUNDDOWN(H20*$B$14,0) -> 0 | J20: =MIN(I20,$I$14) -> 0
A21: 7月 | H21: =SUM(B21:G21) -> 0 | I21: =ROUNDDOWN(H21*$B$14,0) -> 0 | J21: =MIN(I21,$I$14) -> 0
A22: 8月 | H22: =SUM(B22:G22) -> 0 | I22: =ROUNDDOWN(H22*$B$14,0) -> 0 | J22: =MIN(I22,$I$14) -> 0
A23: 9月 | H23: =SUM(B23:G23) -> 0 | I23: =ROUNDDOWN(H23*$B$14,0) -> 0 | J23: =MIN(I23,$I$14) -> 0
A24: 10月 | H24: =SUM(B24:G24) -> 0 | I24: =ROUNDDOWN(H24*$B$14,0) -> 0 | J24: =MIN(I24,$I$14) -> 0
A25: 11月 | H25: =SUM(B25:G25) -> 0 | I25: =ROUNDDOWN(H25*$B$14,0) -> 0 | J25: =MIN(I25,$I$14) -> 0
A26: 12月 | H26: =SUM(B26:G26) -> 0 | I26: =ROUNDDOWN(H26*$B$14,0) -> 0 | J26: =MIN(I26,$I$14) -> 0
A27: 1月 | H27: =SUM(B27:G27) -> 0 | I27: =ROUNDDOWN(H27*$B$14,0) -> 0 | J27: =MIN(I27,$I$14) -> 0
A28: 2月 | H28: =SUM(B28:G28) -> 0 | I28: =ROUNDDOWN(H28*$B$14,0) -> 0 | J28: =MIN(I28,$I$14) -> 0
A29: 3月 | H29: =SUM(B29:G29) -> 0 | I29: =ROUNDDOWN(H29*$B$14,0) -> 0 | J29: =MIN(I29,$I$14) -> 0
A31: 年間サービス費 | D31: =SUM(J18:J29) -> 0 | E31: 円 ⇒別記第２号様式（所要額調書）に入力してください

Sheet 7
A1: 別記第４号様式（第５条及び第７条関係） | J1: 交付申請
A3: 習志野市障がい者グループホーム運営費補助金年間サービス費算出シート | H3: 法人等名 | I3: ='第１号様式（申請書）'!G4 -> 0
A4: 【別記第２号様式（所要額調書）】の「④年間サービス費」の算出のため、入居者ごとに作成してください。 | H4: 施設名 | I4: ='第１号様式（申請書）'!G7 -> 0
A5: ※世話人配置、定員、区分が変わった場合は、シートを分けてください | H5: 施設所在地 | I5: ='第１号様式（申請書）'!G8 -> 0
A7: 入力の手順
A8: 1 地域単価を入力します。
A9: 2 国保連の請求明細書を基に各月のサービス単位数を入力します。
A10: 3 月間単位数、月間単位数×地域単価、月間サービス費、年間サービス費が自動計算されます。
A11: 4 月間単位数×地域単価が補助基準額（月額）を上回った月は、補助基準額（月額）が月間サービス費となります。
A12: 5 年合計サービス費を【別記第２号様式（所要額調書）】に入力してください。
A14: 地域単価 | C14: 円 | E14: 入居者氏名 | F14: ='第２号様式（所要額調書）'!J36 -> 0 | G14: №1 | H14: 補助基準額（月額） | I14: ='第２号様式（所要額調書）'!N36 -> 0 | J14: 円
A16: サービス提供月 | B16: サービス単位数（単位） | H16: 月間単位数 （単位） | I16: 月間単位数× 地域単価(円) | J16: 月間サービス費 （円）
B17: 共同生活援助サービス費 | C17: 人員配置体制加算 | D17: 入院時支援特別加算 | E17: 長期入院時支援特別加算 | F17: 帰宅時支援加算 | G17: 長期帰宅時支援加算
A18: 4月 | H18: =SUM(B18:G18) -> 0 | I18: =ROUNDDOWN(H18*$B$14,0) -> 0 | J18: =MIN(I18,$I$14) -> 0
A19: 5月 | H19: =SUM(B19:G19) -> 0 | I19: =ROUNDDOWN(H19*$B$14,0) -> 0 | J19: =MIN(I19,$I$14) -> 0
A20: 6月 | H20: =SUM(B20:G20) -> 0 | I20: =ROUNDDOWN(H20*$B$14,0) -> 0 | J20: =MIN(I20,$I$14) -> 0
A21: 7月 | H21: =SUM(B21:G21) -> 0 | I21: =ROUNDDOWN(H21*$B$14,0) -> 0 | J21: =MIN(I21,$I$14) -> 0
A22: 8月 | H22: =SUM(B22:G22) -> 0 | I22: =ROUNDDOWN(H22*$B$14,0) -> 0 | J22: =MIN(I22,$I$14) -> 0
A23: 9月 | H23: =SUM(B23:G23) -> 0 | I23: =ROUNDDOWN(H23*$B$14,0) -> 0 | J23: =MIN(I23,$I$14) -> 0
A24: 10月 | H24: =SUM(B24:G24) -> 0 | I24: =ROUNDDOWN(H24*$B$14,0) -> 0 | J24: =MIN(I24,$I$14) -> 0
A25: 11月 | H25: =SUM(B25:G25) -> 0 | I25: =ROUNDDOWN(H25*$B$14,0) -> 0 | J25: =MIN(I25,$I$14) -> 0
A26: 12月 | H26: =SUM(B26:G26) -> 0 | I26: =ROUNDDOWN(H26*$B$14,0) -> 0 | J26: =MIN(I26,$I$14) -> 0
A27: 1月 | H27: =SUM(B27:G27) -> 0 | I27: =ROUNDDOWN(H27*$B$14,0) -> 0 | J27: =MIN(I27,$I$14) -> 0
A28: 2月 | H28: =SUM(B28:G28) -> 0 | I28: =ROUNDDOWN(H28*$B$14,0) -> 0 | J28: =MIN(I28,$I$14) -> 0
A29: 3月 | H29: =SUM(B29:G29) -> 0 | I29: =ROUNDDOWN(H29*$B$14,0) -> 0 | J29: =MIN(I29,$I$14) -> 0
A31: 年間サービス費 | D31: =SUM(J18:J29) -> 0 | E31: 円 ⇒別記第２号様式（所要額調書）に入力してください

Sheet 8
A1: 別記第４号様式（第５条及び第７条関係） | J1: 交付申請
A3: 習志野市障がい者グループホーム運営費補助金年間サービス費算出シート | H3: 法人等名 | I3: ='第１号様式（申請書）'!G4 -> 0
A4: 【別記第２号様式（所要額調書）】の「④年間サービス費」の算出のため、入居者ごとに作成してください。 | H4: 施設名 | I4: ='第１号様式（申請書）'!G7 -> 0
A5: ※世話人配置、定員、区分が変わった場合は、シートを分けてください | H5: 施設所在地 | I5: ='第１号様式（申請書）'!G8 -> 0
A7: 入力の手順
A8: 1 地域単価を入力します。
A9: 2 国保連の請求明細書を基に各月のサービス単位数を入力します。
A10: 3 月間単位数、月間単位数×地域単価、月間サービス費、年間サービス費が自動計算されます。
A11: 4 月間単位数×地域単価が補助基準額（月額）を上回った月は、補助基準額（月額）が月間サービス費となります。
A12: 5 年合計サービス費を【別記第２号様式（所要額調書）】に入力してください。
A14: 地域単価 | C14: 円 | E14: 入居者氏名 | F14: ='第２号様式（所要額調書）'!J38 -> 0 | G14: №1 | H14: 補助基準額（月額） | I14: ='第２号様式（所要額調書）'!N38 -> 0 | J14: 円
A16: サービス提供月 | B16: サービス単位数（単位） | H16: 月間単位数 （単位） | I16: 月間単位数× 地域単価(円) | J16: 月間サービス費 （円）
B17: 共同生活援助サービス費 | C17: 人員配置体制加算 | D17: 入院時支援特別加算 | E17: 長期入院時支援特別加算 | F17: 帰宅時支援加算 | G17: 長期帰宅時支援加算
A18: 4月 | H18: =SUM(B18:G18) -> 0 | I18: =ROUNDDOWN(H18*$B$14,0) -> 0 | J18: =MIN(I18,$I$14) -> 0
A19: 5月 | H19: =SUM(B19:G19) -> 0 | I19: =ROUNDDOWN(H19*$B$14,0) -> 0 | J19: =MIN(I19,$I$14) -> 0
A20: 6月 | H20: =SUM(B20:G20) -> 0 | I20: =ROUNDDOWN(H20*$B$14,0) -> 0 | J20: =MIN(I20,$I$14) -> 0
A21: 7月 | H21: =SUM(B21:G21) -> 0 | I21: =ROUNDDOWN(H21*$B$14,0) -> 0 | J21: =MIN(I21,$I$14) -> 0
A22: 8月 | H22: =SUM(B22:G22) -> 0 | I22: =ROUNDDOWN(H22*$B$14,0) -> 0 | J22: =MIN(I22,$I$14) -> 0
A23: 9月 | H23: =SUM(B23:G23) -> 0 | I23: =ROUNDDOWN(H23*$B$14,0) -> 0 | J23: =MIN(I23,$I$14) -> 0
A24: 10月 | H24: =SUM(B24:G24) -> 0 | I24: =ROUNDDOWN(H24*$B$14,0) -> 0 | J24: =MIN(I24,$I$14) -> 0
A25: 11月 | H25: =SUM(B25:G25) -> 0 | I25: =ROUNDDOWN(H25*$B$14,0) -> 0 | J25: =MIN(I25,$I$14) -> 0
A26: 12月 | H26: =SUM(B26:G26) -> 0 | I26: =ROUNDDOWN(H26*$B$14,0) -> 0 | J26: =MIN(I26,$I$14) -> 0
A27: 1月 | H27: =SUM(B27:G27) -> 0 | I27: =ROUNDDOWN(H27*$B$14,0) -> 0 | J27: =MIN(I27,$I$14) -> 0
A28: 2月 | H28: =SUM(B28:G28) -> 0 | I28: =ROUNDDOWN(H28*$B$14,0) -> 0 | J28: =MIN(I28,$I$14) -> 0
A29: 3月 | H29: =SUM(B29:G29) -> 0 | I29: =ROUNDDOWN(H29*$B$14,0) -> 0 | J29: =MIN(I29,$I$14) -> 0
A31: 年間サービス費 | D31: =SUM(J18:J29) -> 0 | E31: 円 ⇒別記第２号様式（所要額調書）に入力してください

Sheet 9
A1: 別記第４号様式（第５条及び第７条関係） | J1: 交付申請
A3: 習志野市障がい者グループホーム運営費補助金年間サービス費算出シート | H3: 法人等名 | I3: ='第１号様式（申請書）'!G4 -> 0
A4: 【別記第２号様式（所要額調書）】の「④年間サービス費」の算出のため、入居者ごとに作成してください。 | H4: 施設名 | I4: ='第１号様式（申請書）'!G7 -> 0
A5: ※世話人配置、定員、区分が変わった場合は、シートを分けてください | H5: 施設所在地 | I5: ='第１号様式（申請書）'!G8 -> 0
A7: 入力の手順
A8: 1 地域単価を入力します。
A9: 2 国保連の請求明細書を基に各月のサービス単位数を入力します。
A10: 3 月間単位数、月間単位数×地域単価、月間サービス費、年間サービス費が自動計算されます。
A11: 4 月間単位数×地域単価が補助基準額（月額）を上回った月は、補助基準額（月額）が月間サービス費となります。
A12: 5 年合計サービス費を【別記第２号様式（所要額調書）】に入力してください。
A14: 地域単価 | C14: 円 | E14: 入居者氏名 | F14: ='第２号様式（所要額調書）'!J40 -> 0 | G14: №1 | H14: 補助基準額（月額） | I14: ='第２号様式（所要額調書）'!N40 -> 0 | J14: 円
A16: サービス提供月 | B16: サービス単位数（単位） | H16: 月間単位数 （単位） | I16: 月間単位数× 地域単価(円) | J16: 月間サービス費 （円）
B17: 共同生活援助サービス費 | C17: 人員配置体制加算 | D17: 入院時支援特別加算 | E17: 長期入院時支援特別加算 | F17: 帰宅時支援加算 | G17: 長期帰宅時支援加算
A18: 4月 | H18: =SUM(B18:G18) -> 0 | I18: =ROUNDDOWN(H18*$B$14,0) -> 0 | J18: =MIN(I18,$I$14) -> 0
A19: 5月 | H19: =SUM(B19:G19) -> 0 | I19: =ROUNDDOWN(H19*$B$14,0) -> 0 | J19: =MIN(I19,$I$14) -> 0
A20: 6月 | H20: =SUM(B20:G20) -> 0 | I20: =ROUNDDOWN(H20*$B$14,0) -> 0 | J20: =MIN(I20,$I$14) -> 0
A21: 7月 | H21: =SUM(B21:G21) -> 0 | I21: =ROUNDDOWN(H21*$B$14,0) -> 0 | J21: =MIN(I21,$I$14) -> 0
A22: 8月 | H22: =SUM(B22:G22) -> 0 | I22: =ROUNDDOWN(H22*$B$14,0) -> 0 | J22: =MIN(I22,$I$14) -> 0
A23: 9月 | H23: =SUM(B23:G23) -> 0 | I23: =ROUNDDOWN(H23*$B$14,0) -> 0 | J23: =MIN(I23,$I$14) -> 0
A24: 10月 | H24: =SUM(B24:G24) -> 0 | I24: =ROUNDDOWN(H24*$B$14,0) -> 0 | J24: =MIN(I24,$I$14) -> 0
A25: 11月 | H25: =SUM(B25:G25) -> 0 | I25: =ROUNDDOWN(H25*$B$14,0) -> 0 | J25: =MIN(I25,$I$14) -> 0
A26: 12月 | H26: =SUM(B26:G26) -> 0 | I26: =ROUNDDOWN(H26*$B$14,0) -> 0 | J26: =MIN(I26,$I$14) -> 0
A27: 1月 | H27: =SUM(B27:G27) -> 0 | I27: =ROUNDDOWN(H27*$B$14,0) -> 0 | J27: =MIN(I27,$I$14) -> 0
A28: 2月 | H28: =SUM(B28:G28) -> 0 | I28: =ROUNDDOWN(H28*$B$14,0) -> 0 | J28: =MIN(I28,$I$14) -> 0
A29: 3月 | H29: =SUM(B29:G29) -> 0 | I29: =ROUNDDOWN(H29*$B$14,0) -> 0 | J29: =MIN(I29,$I$14) -> 0
A31: 年間サービス費 | D31: =SUM(J18:J29) -> 0 | E31: 円 ⇒別記第２号様式（所要額調書）に入力してください

Sheet 10
A1: 別記第４号様式（第５条及び第７条関係） | J1: 交付申請
A3: 習志野市障がい者グループホーム運営費補助金年間サービス費算出シート | H3: 法人等名 | I3: ='第１号様式（申請書）'!G4 -> 0
A4: 【別記第２号様式（所要額調書）】の「④年間サービス費」の算出のため、入居者ごとに作成してください。 | H4: 施設名 | I4: ='第１号様式（申請書）'!G7 -> 0
A5: ※世話人配置、定員、区分が変わった場合は、シートを分けてください | H5: 施設所在地 | I5: ='第１号様式（申請書）'!G8 -> 0
A7: 入力の手順
A8: 1 地域単価を入力します。
A9: 2 国保連の請求明細書を基に各月のサービス単位数を入力します。
A10: 3 月間単位数、月間単位数×地域単価、月間サービス費、年間サービス費が自動計算されます。
A11: 4 月間単位数×地域単価が補助基準額（月額）を上回った月は、補助基準額（月額）が月間サービス費となります。
A12: 5 年合計サービス費を【別記第２号様式（所要額調書）】に入力してください。
A14: 地域単価 | C14: 円 | E14: 入居者氏名 | F14: ='第２号様式（所要額調書）'!J42 -> 0 | G14: №1 | H14: 補助基準額（月額） | I14: ='第２号様式（所要額調書）'!N42 -> 0 | J14: 円
A16: サービス提供月 | B16: サービス単位数（単位） | H16: 月間単位数 （単位） | I16: 月間単位数× 地域単価(円) | J16: 月間サービス費 （円）
B17: 共同生活援助サービス費 | C17: 人員配置体制加算 | D17: 入院時支援特別加算 | E17: 長期入院時支援特別加算 | F17: 帰宅時支援加算 | G17: 長期帰宅時支援加算
A18: 4月 | H18: =SUM(B18:G18) -> 0 | I18: =ROUNDDOWN(H18*$B$14,0) -> 0 | J18: =MIN(I18,$I$14) -> 0
A19: 5月 | H19: =SUM(B19:G19) -> 0 | I19: =ROUNDDOWN(H19*$B$14,0) -> 0 | J19: =MIN(I19,$I$14) -> 0
A20: 6月 | H20: =SUM(B20:G20) -> 0 | I20: =ROUNDDOWN(H20*$B$14,0) -> 0 | J20: =MIN(I20,$I$14) -> 0
A21: 7月 | H21: =SUM(B21:G21) -> 0 | I21: =ROUNDDOWN(H21*$B$14,0) -> 0 | J21: =MIN(I21,$I$14) -> 0
A22: 8月 | H22: =SUM(B22:G22) -> 0 | I22: =ROUNDDOWN(H22*$B$14,0) -> 0 | J22: =MIN(I22,$I$14) -> 0
A23: 9月 | H23: =SUM(B23:G23) -> 0 | I23: =ROUNDDOWN(H23*$B$14,0) -> 0 | J23: =MIN(I23,$I$14) -> 0
A24: 10月 | H24: =SUM(B24:G24) -> 0 | I24: =ROUNDDOWN(H24*$B$14,0) -> 0 | J24: =MIN(I24,$I$14) -> 0
A25: 11月 | H25: =SUM(B25:G25) -> 0 | I25: =ROUNDDOWN(H25*$B$14,0) -> 0 | J25: =MIN(I25,$I$14) -> 0
A26: 12月 | H26: =SUM(B26:G26) -> 0 | I26: =ROUNDDOWN(H26*$B$14,0) -> 0 | J26: =MIN(I26,$I$14) -> 0
A27: 1月 | H27: =SUM(B27:G27) -> 0 | I27: =ROUNDDOWN(H27*$B$14,0) -> 0 | J27: =MIN(I27,$I$14) -> 0
A28: 2月 | H28: =SUM(B28:G28) -> 0 | I28: =ROUNDDOWN(H28*$B$14,0) -> 0 | J28: =MIN(I28,$I$14) -> 0
A29: 3月 | H29: =SUM(B29:G29) -> 0 | I29: =ROUNDDOWN(H29*$B$14,0) -> 0 | J29: =MIN(I29,$I$14) -> 0
A31: 年間サービス費 | D31: =SUM(J18:J29) -> 0 | E31: 円 ⇒別記第２号様式（所要額調書）に入力してください

Sheet 11
A1: 別記第４号様式（第５条及び第７条関係） | J1: 交付申請
A3: 習志野市障がい者グループホーム運営費補助金年間サービス費算出シート | H3: 法人等名 | I3: ='第１号様式（申請書）'!G4 -> 0
A4: 【別記第２号様式（所要額調書）】の「④年間サービス費」の算出のため、入居者ごとに作成してください。 | H4: 施設名 | I4: ='第１号様式（申請書）'!G7 -> 0
A5: ※世話人配置、定員、区分が変わった場合は、シートを分けてください | H5: 施設所在地 | I5: ='第１号様式（申請書）'!G8 -> 0
A7: 入力の手順
A8: 1 地域単価を入力します。
A9: 2 国保連の請求明細書を基に各月のサービス単位数を入力します。
A10: 3 月間単位数、月間単位数×地域単価、月間サービス費、年間サービス費が自動計算されます。
A11: 4 月間単位数×地域単価が補助基準額（月額）を上回った月は、補助基準額（月額）が月間サービス費となります。
A12: 5 年合計サービス費を【別記第２号様式（所要額調書）】に入力してください。
A14: 地域単価 | C14: 円 | E14: 入居者氏名 | F14: ='第２号様式（所要額調書）'!J44 -> 0 | G14: №1 | H14: 補助基準額（月額） | I14: ='第２号様式（所要額調書）'!N44 -> 0 | J14: 円
A16: サービス提供月 | B16: サービス単位数（単位） | H16: 月間単位数 （単位） | I16: 月間単位数× 地域単価(円) | J16: 月間サービス費 （円）
B17: 共同生活援助サービス費 | C17: 人員配置体制加算 | D17: 入院時支援特別加算 | E17: 長期入院時支援特別加算 | F17: 帰宅時支援加算 | G17: 長期帰宅時支援加算
A18: 4月 | H18: =SUM(B18:G18) -> 0 | I18: =ROUNDDOWN(H18*$B$14,0) -> 0 | J18: =MIN(I18,$I$14) -> 0
A19: 5月 | H19: =SUM(B19:G19) -> 0 | I19: =ROUNDDOWN(H19*$B$14,0) -> 0 | J19: =MIN(I19,$I$14) -> 0
A20: 6月 | H20: =SUM(B20:G20) -> 0 | I20: =ROUNDDOWN(H20*$B$14,0) -> 0 | J20: =MIN(I20,$I$14) -> 0
A21: 7月 | H21: =SUM(B21:G21) -> 0 | I21: =ROUNDDOWN(H21*$B$14,0) -> 0 | J21: =MIN(I21,$I$14) -> 0
A22: 8月 | H22: =SUM(B22:G22) -> 0 | I22: =ROUNDDOWN(H22*$B$14,0) -> 0 | J22: =MIN(I22,$I$14) -> 0
A23: 9月 | H23: =SUM(B23:G23) -> 0 | I23: =ROUNDDOWN(H23*$B$14,0) -> 0 | J23: =MIN(I23,$I$14) -> 0
A24: 10月 | H24: =SUM(B24:G24) -> 0 | I24: =ROUNDDOWN(H24*$B$14,0) -> 0 | J24: =MIN(I24,$I$14) -> 0
A25: 11月 | H25: =SUM(B25:G25) -> 0 | I25: =ROUNDDOWN(H25*$B$14,0) -> 0 | J25: =MIN(I25,$I$14) -> 0
A26: 12月 | H26: =SUM(B26:G26) -> 0 | I26: =ROUNDDOWN(H26*$B$14,0) -> 0 | J26: =MIN(I26,$I$14) -> 0
A27: 1月 | H27: =SUM(B27:G27) -> 0 | I27: =ROUNDDOWN(H27*$B$14,0) -> 0 | J27: =MIN(I27,$I$14) -> 0
A28: 2月 | H28: =SUM(B28:G28) -> 0 | I28: =ROUNDDOWN(H28*$B$14,0) -> 0 | J28: =MIN(I28,$I$14) -> 0
A29: 3月 | H29: =SUM(B29:G29) -> 0 | I29: =ROUNDDOWN(H29*$B$14,0) -> 0 | J29: =MIN(I29,$I$14) -> 0
A31: 年間サービス費 | D31: =SUM(J18:J29) -> 0 | E31: 円 ⇒別記第２号様式（所要額調書）に入力してください

Sheet 12
A1: 別記第４号様式（第５条及び第７条関係） | J1: 交付申請
A3: 習志野市障がい者グループホーム運営費補助金年間サービス費算出シート | H3: 法人等名 | I3: ='第１号様式（申請書）'!G4 -> 0
A4: 【別記第２号様式（所要額調書）】の「④年間サービス費」の算出のため、入居者ごとに作成してください。 | H4: 施設名 | I4: ='第１号様式（申請書）'!G7 -> 0
A5: ※世話人配置、定員、区分が変わった場合は、シートを分けてください | H5: 施設所在地 | I5: ='第１号様式（申請書）'!G8 -> 0
A7: 入力の手順
A8: 1 地域単価を入力します。
A9: 2 国保連の請求明細書を基に各月のサービス単位数を入力します。
A10: 3 月間単位数、月間単位数×地域単価、月間サービス費、年間サービス費が自動計算されます。
A11: 4 月間単位数×地域単価が補助基準額（月額）を上回った月は、補助基準額（月額）が月間サービス費となります。
A12: 5 年合計サービス費を【別記第２号様式（所要額調書）】に入力してください。
A14: 地域単価 | C14: 円 | E14: 入居者氏名 | F14: ='第２号様式（所要額調書）'!J46 -> 0 | G14: №1 | H14: 補助基準額（月額） | I14: ='第２号様式（所要額調書）'!N46 -> 0 | J14: 円
A16: サービス提供月 | B16: サービス単位数（単位） | H16: 月間単位数 （単位） | I16: 月間単位数× 地域単価(円) | J16: 月間サービス費 （円）
B17: 共同生活援助サービス費 | C17: 人員配置体制加算 | D17: 入院時支援特別加算 | E17: 長期入院時支援特別加算 | F17: 帰宅時支援加算 | G17: 長期帰宅時支援加算
A18: 4月 | H18: =SUM(B18:G18) -> 0 | I18: =ROUNDDOWN(H18*$B$14,0) -> 0 | J18: =MIN(I18,$I$14) -> 0
A19: 5月 | H19: =SUM(B19:G19) -> 0 | I19: =ROUNDDOWN(H19*$B$14,0) -> 0 | J19: =MIN(I19,$I$14) -> 0
A20: 6月 | H20: =SUM(B20:G20) -> 0 | I20: =ROUNDDOWN(H20*$B$14,0) -> 0 | J20: =MIN(I20,$I$14) -> 0
A21: 7月 | H21: =SUM(B21:G21) -> 0 | I21: =ROUNDDOWN(H21*$B$14,0) -> 0 | J21: =MIN(I21,$I$14) -> 0
A22: 8月 | H22: =SUM(B22:G22) -> 0 | I22: =ROUNDDOWN(H22*$B$14,0) -> 0 | J22: =MIN(I22,$I$14) -> 0
A23: 9月 | H23: =SUM(B23:G23) -> 0 | I23: =ROUNDDOWN(H23*$B$14,0) -> 0 | J23: =MIN(I23,$I$14) -> 0
A24: 10月 | H24: =SUM(B24:G24) -> 0 | I24: =ROUNDDOWN(H24*$B$14,0) -> 0 | J24: =MIN(I24,$I$14) -> 0
A25: 11月 | H25: =SUM(B25:G25) -> 0 | I25: =ROUNDDOWN(H25*$B$14,0) -> 0 | J25: =MIN(I25,$I$14) -> 0
A26: 12月 | H26: =SUM(B26:G26) -> 0 | I26: =ROUNDDOWN(H26*$B$14,0) -> 0 | J26: =MIN(I26,$I$14) -> 0
A27: 1月 | H27: =SUM(B27:G27) -> 0 | I27: =ROUNDDOWN(H27*$B$14,0) -> 0 | J27: =MIN(I27,$I$14) -> 0
A28: 2月 | H28: =SUM(B28:G28) -> 0 | I28: =ROUNDDOWN(H28*$B$14,0) -> 0 | J28: =MIN(I28,$I$14) -> 0
A29: 3月 | H29: =SUM(B29:G29) -> 0 | I29: =ROUNDDOWN(H29*$B$14,0) -> 0 | J29: =MIN(I29,$I$14) -> 0
A31: 年間サービス費 | D31: =SUM(J18:J29) -> 0 | E31: 円 ⇒別記第２号様式（所要額調書）に入力してください

Sheet 13
A1: 別記第４号様式（第５条及び第７条関係） | J1: 交付申請
A3: 習志野市障がい者グループホーム運営費補助金年間サービス費算出シート | H3: 法人等名 | I3: ='第１号様式（申請書）'!G4 -> 0
A4: 【別記第２号様式（所要額調書）】の「④年間サービス費」の算出のため、入居者ごとに作成してください。 | H4: 施設名 | I4: ='第１号様式（申請書）'!G7 -> 0
A5: ※世話人配置、定員、区分が変わった場合は、シートを分けてください | H5: 施設所在地 | I5: ='第１号様式（申請書）'!G8 -> 0
A7: 入力の手順
A8: 1 地域単価を入力します。
A9: 2 国保連の請求明細書を基に各月のサービス単位数を入力します。
A10: 3 月間単位数、月間単位数×地域単価、月間サービス費、年間サービス費が自動計算されます。
A11: 4 月間単位数×地域単価が補助基準額（月額）を上回った月は、補助基準額（月額）が月間サービス費となります。
A12: 5 年合計サービス費を【別記第２号様式（所要額調書）】に入力してください。
A14: 地域単価 | C14: 円 | E14: 入居者氏名 | F14: ='第２号様式（所要額調書）'!J48 -> 0 | G14: №1 | H14: 補助基準額（月額） | I14: ='第２号様式（所要額調書）'!N48 -> 0 | J14: 円
A16: サービス提供月 | B16: サービス単位数（単位） | H16: 月間単位数 （単位） | I16: 月間単位数× 地域単価(円) | J16: 月間サービス費 （円）
B17: 共同生活援助サービス費 | C17: 人員配置体制加算 | D17: 入院時支援特別加算 | E17: 長期入院時支援特別加算 | F17: 帰宅時支援加算 | G17: 長期帰宅時支援加算
A18: 4月 | H18: =SUM(B18:G18) -> 0 | I18: =ROUNDDOWN(H18*$B$14,0) -> 0 | J18: =MIN(I18,$I$14) -> 0
A19: 5月 | H19: =SUM(B19:G19) -> 0 | I19: =ROUNDDOWN(H19*$B$14,0) -> 0 | J19: =MIN(I19,$I$14) -> 0
A20: 6月 | H20: =SUM(B20:G20) -> 0 | I20: =ROUNDDOWN(H20*$B$14,0) -> 0 | J20: =MIN(I20,$I$14) -> 0
A21: 7月 | H21: =SUM(B21:G21) -> 0 | I21: =ROUNDDOWN(H21*$B$14,0) -> 0 | J21: =MIN(I21,$I$14) -> 0
A22: 8月 | H22: =SUM(B22:G22) -> 0 | I22: =ROUNDDOWN(H22*$B$14,0) -> 0 | J22: =MIN(I22,$I$14) -> 0
A23: 9月 | H23: =SUM(B23:G23) -> 0 | I23: =ROUNDDOWN(H23*$B$14,0) -> 0 | J23: =MIN(I23,$I$14) -> 0
A24: 10月 | H24: =SUM(B24:G24) -> 0 | I24: =ROUNDDOWN(H24*$B$14,0) -> 0 | J24: =MIN(I24,$I$14) -> 0
A25: 11月 | H25: =SUM(B25:G25) -> 0 | I25: =ROUNDDOWN(H25*$B$14,0) -> 0 | J25: =MIN(I25,$I$14) -> 0
A26: 12月 | H26: =SUM(B26:G26) -> 0 | I26: =ROUNDDOWN(H26*$B$14,0) -> 0 | J26: =MIN(I26,$I$14) -> 0
A27: 1月 | H27: =SUM(B27:G27) -> 0 | I27: =ROUNDDOWN(H27*$B$14,0) -> 0 | J27: =MIN(I27,$I$14) -> 0
A28: 2月 | H28: =SUM(B28:G28) -> 0 | I28: =ROUNDDOWN(H28*$B$14,0) -> 0 | J28: =MIN(I28,$I$14) -> 0
A29: 3月 | H29: =SUM(B29:G29) -> 0 | I29: =ROUNDDOWN(H29*$B$14,0) -> 0 | J29: =MIN(I29,$I$14) -> 0
A31: 年間サービス費 | D31: =SUM(J18:J29) -> 0 | E31: 円 ⇒別記第２号様式（所要額調書）に入力してください

Sheet 14
A1: 別記第４号様式（第５条及び第７条関係） | J1: 交付申請
A3: 習志野市障がい者グループホーム運営費補助金年間サービス費算出シート | H3: 法人等名 | I3: ='第１号様式（申請書）'!G4 -> 0
A4: 【別記第２号様式（所要額調書）】の「④年間サービス費」の算出のため、入居者ごとに作成してください。 | H4: 施設名 | I4: ='第１号様式（申請書）'!G7 -> 0
A5: ※世話人配置、定員、区分が変わった場合は、シートを分けてください | H5: 施設所在地 | I5: ='第１号様式（申請書）'!G8 -> 0
A7: 入力の手順
A8: 1 地域単価を入力します。
A9: 2 国保連の請求明細書を基に各月のサービス単位数を入力します。
A10: 3 月間単位数、月間単位数×地域単価、月間サービス費、年間サービス費が自動計算されます。
A11: 4 月間単位数×地域単価が補助基準額（月額）を上回った月は、補助基準額（月額）が月間サービス費となります。
A12: 5 年合計サービス費を【別記第２号様式（所要額調書）】に入力してください。
A14: 地域単価 | C14: 円 | E14: 入居者氏名 | F14: ='第２号様式（所要額調書）'!J50 -> 0 | G14: №1 | H14: 補助基準額（月額） | I14: ='第２号様式（所要額調書）'!N50 -> 0 | J14: 円
A16: サービス提供月 | B16: サービス単位数（単位） | H16: 月間単位数 （単位） | I16: 月間単位数× 地域単価(円) | J16: 月間サービス費 （円）
B17: 共同生活援助サービス費 | C17: 人員配置体制加算 | D17: 入院時支援特別加算 | E17: 長期入院時支援特別加算 | F17: 帰宅時支援加算 | G17: 長期帰宅時支援加算
A18: 4月 | H18: =SUM(B18:G18) -> 0 | I18: =ROUNDDOWN(H18*$B$14,0) -> 0 | J18: =MIN(I18,$I$14) -> 0
A19: 5月 | H19: =SUM(B19:G19) -> 0 | I19: =ROUNDDOWN(H19*$B$14,0) -> 0 | J19: =MIN(I19,$I$14) -> 0
A20: 6月 | H20: =SUM(B20:G20) -> 0 | I20: =ROUNDDOWN(H20*$B$14,0) -> 0 | J20: =MIN(I20,$I$14) -> 0
A21: 7月 | H21: =SUM(B21:G21) -> 0 | I21: =ROUNDDOWN(H21*$B$14,0) -> 0 | J21: =MIN(I21,$I$14) -> 0
A22: 8月 | H22: =SUM(B22:G22) -> 0 | I22: =ROUNDDOWN(H22*$B$14,0) -> 0 | J22: =MIN(I22,$I$14) -> 0
A23: 9月 | H23: =SUM(B23:G23) -> 0 | I23: =ROUNDDOWN(H23*$B$14,0) -> 0 | J23: =MIN(I23,$I$14) -> 0
A24: 10月 | H24: =SUM(B24:G24) -> 0 | I24: =ROUNDDOWN(H24*$B$14,0) -> 0 | J24: =MIN(I24,$I$14) -> 0
A25: 11月 | H25: =SUM(B25:G25) -> 0 | I25: =ROUNDDOWN(H25*$B$14,0) -> 0 | J25: =MIN(I25,$I$14) -> 0
A26: 12月 | H26: =SUM(B26:G26) -> 0 | I26: =ROUNDDOWN(H26*$B$14,0) -> 0 | J26: =MIN(I26,$I$14) -> 0
A27: 1月 | H27: =SUM(B27:G27) -> 0 | I27: =ROUNDDOWN(H27*$B$14,0) -> 0 | J27: =MIN(I27,$I$14) -> 0
A28: 2月 | H28: =SUM(B28:G28) -> 0 | I28: =ROUNDDOWN(H28*$B$14,0) -> 0 | J28: =MIN(I28,$I$14) -> 0
A29: 3月 | H29: =SUM(B29:G29) -> 0 | I29: =ROUNDDOWN(H29*$B$14,0) -> 0 | J29: =MIN(I29,$I$14) -> 0
A31: 年間サービス費 | D31: =SUM(J18:J29) -> 0 | E31: 円 ⇒別記第２号様式（所要額調書）に入力してください

Sheet 15
A1: 別記第４号様式（第５条及び第７条関係） | J1: 交付申請
A3: 習志野市障がい者グループホーム運営費補助金年間サービス費算出シート | H3: 法人等名 | I3: ='第１号様式（申請書）'!G4 -> 0
A4: 【別記第２号様式（所要額調書）】の「④年間サービス費」の算出のため、入居者ごとに作成してください。 | H4: 施設名 | I4: ='第１号様式（申請書）'!G7 -> 0
A5: ※世話人配置、定員、区分が変わった場合は、シートを分けてください | H5: 施設所在地 | I5: ='第１号様式（申請書）'!G8 -> 0
A7: 入力の手順
A8: 1 地域単価を入力します。
A9: 2 国保連の請求明細書を基に各月のサービス単位数を入力します。
A10: 3 月間単位数、月間単位数×地域単価、月間サービス費、年間サービス費が自動計算されます。
A11: 4 月間単位数×地域単価が補助基準額（月額）を上回った月は、補助基準額（月額）が月間サービス費となります。
A12: 5 年合計サービス費を【別記第２号様式（所要額調書）】に入力してください。
A14: 地域単価 | C14: 円 | E14: 入居者氏名 | F14: ='第２号様式（所要額調書）'!J52 -> 0 | G14: №1 | H14: 補助基準額（月額） | I14: ='第２号様式（所要額調書）'!N52 -> 0 | J14: 円
A16: サービス提供月 | B16: サービス単位数（単位） | H16: 月間単位数 （単位） | I16: 月間単位数× 地域単価(円) | J16: 月間サービス費 （円）
B17: 共同生活援助サービス費 | C17: 人員配置体制加算 | D17: 入院時支援特別加算 | E17: 長期入院時支援特別加算 | F17: 帰宅時支援加算 | G17: 長期帰宅時支援加算
A18: 4月 | H18: =SUM(B18:G18) -> 0 | I18: =ROUNDDOWN(H18*$B$14,0) -> 0 | J18: =MIN(I18,$I$14) -> 0
A19: 5月 | H19: =SUM(B19:G19) -> 0 | I19: =ROUNDDOWN(H19*$B$14,0) -> 0 | J19: =MIN(I19,$I$14) -> 0
A20: 6月 | H20: =SUM(B20:G20) -> 0 | I20: =ROUNDDOWN(H20*$B$14,0) -> 0 | J20: =MIN(I20,$I$14) -> 0
A21: 7月 | H21: =SUM(B21:G21) -> 0 | I21: =ROUNDDOWN(H21*$B$14,0) -> 0 | J21: =MIN(I21,$I$14) -> 0
A22: 8月 | H22: =SUM(B22:G22) -> 0 | I22: =ROUNDDOWN(H22*$B$14,0) -> 0 | J22: =MIN(I22,$I$14) -> 0
A23: 9月 | H23: =SUM(B23:G23) -> 0 | I23: =ROUNDDOWN(H23*$B$14,0) -> 0 | J23: =MIN(I23,$I$14) -> 0
A24: 10月 | H24: =SUM(B24:G24) -> 0 | I24: =ROUNDDOWN(H24*$B$14,0) -> 0 | J24: =MIN(I24,$I$14) -> 0
A25: 11月 | H25: =SUM(B25:G25) -> 0 | I25: =ROUNDDOWN(H25*$B$14,0) -> 0 | J25: =MIN(I25,$I$14) -> 0
A26: 12月 | H26: =SUM(B26:G26) -> 0 | I26: =ROUNDDOWN(H26*$B$14,0) -> 0 | J26: =MIN(I26,$I$14) -> 0
A27: 1月 | H27: =SUM(B27:G27) -> 0 | I27: =ROUNDDOWN(H27*$B$14,0) -> 0 | J27: =MIN(I27,$I$14) -> 0
A28: 2月 | H28: =SUM(B28:G28) -> 0 | I28: =ROUNDDOWN(H28*$B$14,0) -> 0 | J28: =MIN(I28,$I$14) -> 0
A29: 3月 | H29: =SUM(B29:G29) -> 0 | I29: =ROUNDDOWN(H29*$B$14,0) -> 0 | J29: =MIN(I29,$I$14) -> 0
A31: 年間サービス費 | D31: =SUM(J18:J29) -> 0 | E31: 円 ⇒別記第２号様式（所要額調書）に入力してください

Sheet 16
A1: 別記第４号様式（第５条及び第７条関係） | J1: 交付申請
A3: 習志野市障がい者グループホーム運営費補助金年間サービス費算出シート | H3: 法人等名 | I3: ='第１号様式（申請書）'!G4 -> 0
A4: 【別記第２号様式（所要額調書）】の「④年間サービス費」の算出のため、入居者ごとに作成してください。 | H4: 施設名 | I4: ='第１号様式（申請書）'!G7 -> 0
A5: ※世話人配置、定員、区分が変わった場合は、シートを分けてください | H5: 施設所在地 | I5: ='第１号様式（申請書）'!G8 -> 0
A7: 入力の手順
A8: 1 地域単価を入力します。
A9: 2 国保連の請求明細書を基に各月のサービス単位数を入力します。
A10: 3 月間単位数、月間単位数×地域単価、月間サービス費、年間サービス費が自動計算されます。
A11: 4 月間単位数×地域単価が補助基準額（月額）を上回った月は、補助基準額（月額）が月間サービス費となります。
A12: 5 年合計サービス費を【別記第２号様式（所要額調書）】に入力してください。
A14: 地域単価 | C14: 円 | E14: 入居者氏名 | F14: ='第２号様式（所要額調書）'!J54 -> 0 | G14: №1 | H14: 補助基準額（月額） | I14: ='第２号様式（所要額調書）'!N54 -> 0 | J14: 円
A16: サービス提供月 | B16: サービス単位数（単位） | H16: 月間単位数 （単位） | I16: 月間単位数× 地域単価(円) | J16: 月間サービス費 （円）
B17: 共同生活援助サービス費 | C17: 人員配置体制加算 | D17: 入院時支援特別加算 | E17: 長期入院時支援特別加算 | F17: 帰宅時支援加算 | G17: 長期帰宅時支援加算
A18: 4月 | H18: =SUM(B18:G18) -> 0 | I18: =ROUNDDOWN(H18*$B$14,0) -> 0 | J18: =MIN(I18,$I$14) -> 0
A19: 5月 | H19: =SUM(B19:G19) -> 0 | I19: =ROUNDDOWN(H19*$B$14,0) -> 0 | J19: =MIN(I19,$I$14) -> 0
A20: 6月 | H20: =SUM(B20:G20) -> 0 | I20: =ROUNDDOWN(H20*$B$14,0) -> 0 | J20: =MIN(I20,$I$14) -> 0
A21: 7月 | H21: =SUM(B21:G21) -> 0 | I21: =ROUNDDOWN(H21*$B$14,0) -> 0 | J21: =MIN(I21,$I$14) -> 0
A22: 8月 | H22: =SUM(B22:G22) -> 0 | I22: =ROUNDDOWN(H22*$B$14,0) -> 0 | J22: =MIN(I22,$I$14) -> 0
A23: 9月 | H23: =SUM(B23:G23) -> 0 | I23: =ROUNDDOWN(H23*$B$14,0) -> 0 | J23: =MIN(I23,$I$14) -> 0
A24: 10月 | H24: =SUM(B24:G24) -> 0 | I24: =ROUNDDOWN(H24*$B$14,0) -> 0 | J24: =MIN(I24,$I$14) -> 0
A25: 11月 | H25: =SUM(B25:G25) -> 0 | I25: =ROUNDDOWN(H25*$B$14,0) -> 0 | J25: =MIN(I25,$I$14) -> 0
A26: 12月 | H26: =SUM(B26:G26) -> 0 | I26: =ROUNDDOWN(H26*$B$14,0) -> 0 | J26: =MIN(I26,$I$14) -> 0
A27: 1月 | H27: =SUM(B27:G27) -> 0 | I27: =ROUNDDOWN(H27*$B$14,0) -> 0 | J27: =MIN(I27,$I$14) -> 0
A28: 2月 | H28: =SUM(B28:G28) -> 0 | I28: =ROUNDDOWN(H28*$B$14,0) -> 0 | J28: =MIN(I28,$I$14) -> 0
A29: 3月 | H29: =SUM(B29:G29) -> 0 | I29: =ROUNDDOWN(H29*$B$14,0) -> 0 | J29: =MIN(I29,$I$14) -> 0
A31: 年間サービス費 | D31: =SUM(J18:J29) -> 0 | E31: 円 ⇒別記第２号様式（所要額調書）に入力してください

Sheet 17
A1: 別記第４号様式（第５条及び第７条関係） | J1: 交付申請
A3: 習志野市障がい者グループホーム運営費補助金年間サービス費算出シート | H3: 法人等名 | I3: ='第１号様式（申請書）'!G4 -> 0
A4: 【別記第２号様式（所要額調書）】の「④年間サービス費」の算出のため、入居者ごとに作成してください。 | H4: 施設名 | I4: ='第１号様式（申請書）'!G7 -> 0
A5: ※世話人配置、定員、区分が変わった場合は、シートを分けてください | H5: 施設所在地 | I5: ='第１号様式（申請書）'!G8 -> 0
A7: 入力の手順
A8: 1 地域単価を入力します。
A9: 2 国保連の請求明細書を基に各月のサービス単位数を入力します。
A10: 3 月間単位数、月間単位数×地域単価、月間サービス費、年間サービス費が自動計算されます。
A11: 4 月間単位数×地域単価が補助基準額（月額）を上回った月は、補助基準額（月額）が月間サービス費となります。
A12: 5 年合計サービス費を【別記第２号様式（所要額調書）】に入力してください。
A14: 地域単価 | C14: 円 | E14: 入居者氏名 | F14: ='第２号様式（所要額調書）'!J56 -> 0 | G14: №1 | H14: 補助基準額（月額） | I14: ='第２号様式（所要額調書）'!N56 -> 0 | J14: 円
A16: サービス提供月 | B16: サービス単位数（単位） | H16: 月間単位数 （単位） | I16: 月間単位数× 地域単価(円) | J16: 月間サービス費 （円）
B17: 共同生活援助サービス費 | C17: 人員配置体制加算 | D17: 入院時支援特別加算 | E17: 長期入院時支援特別加算 | F17: 帰宅時支援加算 | G17: 長期帰宅時支援加算
A18: 4月 | H18: =SUM(B18:G18) -> 0 | I18: =ROUNDDOWN(H18*$B$14,0) -> 0 | J18: =MIN(I18,$I$14) -> 0
A19: 5月 | H19: =SUM(B19:G19) -> 0 | I19: =ROUNDDOWN(H19*$B$14,0) -> 0 | J19: =MIN(I19,$I$14) -> 0
A20: 6月 | H20: =SUM(B20:G20) -> 0 | I20: =ROUNDDOWN(H20*$B$14,0) -> 0 | J20: =MIN(I20,$I$14) -> 0
A21: 7月 | H21: =SUM(B21:G21) -> 0 | I21: =ROUNDDOWN(H21*$B$14,0) -> 0 | J21: =MIN(I21,$I$14) -> 0
A22: 8月 | H22: =SUM(B22:G22) -> 0 | I22: =ROUNDDOWN(H22*$B$14,0) -> 0 | J22: =MIN(I22,$I$14) -> 0
A23: 9月 | H23: =SUM(B23:G23) -> 0 | I23: =ROUNDDOWN(H23*$B$14,0) -> 0 | J23: =MIN(I23,$I$14) -> 0
A24: 10月 | H24: =SUM(B24:G24) -> 0 | I24: =ROUNDDOWN(H24*$B$14,0) -> 0 | J24: =MIN(I24,$I$14) -> 0
A25: 11月 | H25: =SUM(B25:G25) -> 0 | I25: =ROUNDDOWN(H25*$B$14,0) -> 0 | J25: =MIN(I25,$I$14) -> 0
A26: 12月 | H26: =SUM(B26:G26) -> 0 | I26: =ROUNDDOWN(H26*$B$14,0) -> 0 | J26: =MIN(I26,$I$14) -> 0
A27: 1月 | H27: =SUM(B27:G27) -> 0 | I27: =ROUNDDOWN(H27*$B$14,0) -> 0 | J27: =MIN(I27,$I$14) -> 0
A28: 2月 | H28: =SUM(B28:G28) -> 0 | I28: =ROUNDDOWN(H28*$B$14,0) -> 0 | J28: =MIN(I28,$I$14) -> 0
A29: 3月 | H29: =SUM(B29:G29) -> 0 | I29: =ROUNDDOWN(H29*$B$14,0) -> 0 | J29: =MIN(I29,$I$14) -> 0
A31: 年間サービス費 | D31: =SUM(J18:J29) -> 0 | E31: 円 ⇒別記第２号様式（所要額調書）に入力してください

Sheet 18
A1: 別記第４号様式（第５条及び第７条関係） | J1: 交付申請
A3: 習志野市障がい者グループホーム運営費補助金年間サービス費算出シート | H3: 法人等名 | I3: ='第１号様式（申請書）'!G4 -> 0
A4: 【別記第２号様式（所要額調書）】の「④年間サービス費」の算出のため、入居者ごとに作成してください。 | H4: 施設名 | I4: ='第１号様式（申請書）'!G7 -> 0
A5: ※世話人配置、定員、区分が変わった場合は、シートを分けてください | H5: 施設所在地 | I5: ='第１号様式（申請書）'!G8 -> 0
A7: 入力の手順
A8: 1 地域単価を入力します。
A9: 2 国保連の請求明細書を基に各月のサービス単位数を入力します。
A10: 3 月間単位数、月間単位数×地域単価、月間サービス費、年間サービス費が自動計算されます。
A11: 4 月間単位数×地域単価が補助基準額（月額）を上回った月は、補助基準額（月額）が月間サービス費となります。
A12: 5 年合計サービス費を【別記第２号様式（所要額調書）】に入力してください。
A14: 地域単価 | C14: 円 | E14: 入居者氏名 | F14: ='第２号様式（所要額調書）'!J58 -> 0 | G14: №1 | H14: 補助基準額（月額） | I14: ='第２号様式（所要額調書）'!N58 -> 0 | J14: 円
A16: サービス提供月 | B16: サービス単位数（単位） | H16: 月間単位数 （単位） | I16: 月間単位数× 地域単価(円) | J16: 月間サービス費 （円）
B17: 共同生活援助サービス費 | C17: 人員配置体制加算 | D17: 入院時支援特別加算 | E17: 長期入院時支援特別加算 | F17: 帰宅時支援加算 | G17: 長期帰宅時支援加算
A18: 4月 | H18: =SUM(B18:G18) -> 0 | I18: =ROUNDDOWN(H18*$B$14,0) -> 0 | J18: =MIN(I18,$I$14) -> 0
A19: 5月 | H19: =SUM(B19:G19) -> 0 | I19: =ROUNDDOWN(H19*$B$14,0) -> 0 | J19: =MIN(I19,$I$14) -> 0
A20: 6月 | H20: =SUM(B20:G20) -> 0 | I20: =ROUNDDOWN(H20*$B$14,0) -> 0 | J20: =MIN(I20,$I$14) -> 0
A21: 7月 | H21: =SUM(B21:G21) -> 0 | I21: =ROUNDDOWN(H21*$B$14,0) -> 0 | J21: =MIN(I21,$I$14) -> 0
A22: 8月 | H22: =SUM(B22:G22) -> 0 | I22: =ROUNDDOWN(H22*$B$14,0) -> 0 | J22: =MIN(I22,$I$14) -> 0
A23: 9月 | H23: =SUM(B23:G23) -> 0 | I23: =ROUNDDOWN(H23*$B$14,0) -> 0 | J23: =MIN(I23,$I$14) -> 0
A24: 10月 | H24: =SUM(B24:G24) -> 0 | I24: =ROUNDDOWN(H24*$B$14,0) -> 0 | J24: =MIN(I24,$I$14) -> 0
A25: 11月 | H25: =SUM(B25:G25) -> 0 | I25: =ROUNDDOWN(H25*$B$14,0) -> 0 | J25: =MIN(I25,$I$14) -> 0
A26: 12月 | H26: =SUM(B26:G26) -> 0 | I26: =ROUNDDOWN(H26*$B$14,0) -> 0 | J26: =MIN(I26,$I$14) -> 0
A27: 1月 | H27: =SUM(B27:G27) -> 0 | I27: =ROUNDDOWN(H27*$B$14,0) -> 0 | J27: =MIN(I27,$I$14) -> 0
A28: 2月 | H28: =SUM(B28:G28) -> 0 | I28: =ROUNDDOWN(H28*$B$14,0) -> 0 | J28: =MIN(I28,$I$14) -> 0
