Workbook

Sheet 補助金交付請求書
A1: 別記第９号様式（第８条関係）
N3: 令和 | T3: 年 月 日
A5: 習志野市長 宛て
F7: 補助事業者 | I7: （法人住所）
I8: （法人名称）
I9: （代表者名）
I10: （施設住所）
I11: （施設名称）
A14: 習志野市障がい者グループホーム運営費補助金交付請求書
A17: 習志野市補助金等交付規則及び習志野市障がい者グループホーム運営費補助金交付要綱により、補助金等の交付を次のとおり請求します。
A19: １ 指令年月日 | K19: ２ 指令番号
A21: ３ 補助事業等の 名称
A22: ４ 交付決定額
A23: ５ 交付確定額
A24: ６ 既交付額
A25: ７ 今回交付請求額
A26: ８ 添付書類
A27: ※ ９については、必要がある場合に記載してください
A28: ９ | B28: 金融機関名 | K28: 預金区分
B29: 口座名義 （カタカナ） | K29: 口座番号

Sheet 概算払・前金払請求書
A1: 別記第１０号様式（第９条関係）
N3: 令和 | T3: 年 月 日
A5: 習志野市長 宛て
F7: 補助事業者 | I7: （法人住所）
I8: （法人名称）
I9: （代表者名）
I10: （施設住所）
I11: （施設名称）
A14: 習志野市障がい者グループホーム運営費補助金等概算払・前金払請求書
A17: 習志野市補助金等交付規則及び習志野市障がい者グループホーム運営費補助金交付要綱により、補助金等の概算払・前金払を次のとおり請求します。
A20: １ 指令年月日 | K20: ２ 指令番号
A22: ３ 補助事業等の 名称
A23: ４ 概算払・前金払 請求額
A24: ５ 概算払・前金払 の請求理由
A26: ※ ６については、必要がある場合に記載してください
A27: ６ | B27: 金融機関名 | K27: 預金区分
B28: 口座名義 （カタカナ） | K28: 口座番号

Sheet 交付決定通知
A1: 第２号様式（第８条第１項） | V1: 入力欄
N2: ="習志野指令こ保第"&W10&"-"&W5&"号" -> 習志野指令こ保第17-号 | V2: 施設名 | W2: 第一くるみ幼稚園 | Y2: ←上書きで使用してください
N3: =W4 -> 令和8年 月 日 | V3: 補助金 | W3: 保育士宿舎借り上げ支援事業費補助金
V4: 指令年月日 | W4: 令和8年 月 日
B5: 申請者住所 | E5: =VLOOKUP($W$2,施設情報一覧_R07市内特定教育・保育施設一覧より転記!$A$2:$G$38,3,FALSE) -> 習志野市谷津５－２０－５ | V5: 指令番号（枝）
B6: 申請者氏名 | E6: =VLOOKUP($W$2,施設情報一覧_R07市内特定教育・保育施設一覧より転記!$A$2:$G$38,4,FALSE) -> 学校法人平岡学園 | V6: 申請日 | W6: 46035
B7: （団体名） | E7: =VLOOKUP($W$2,施設情報一覧_R07市内特定教育・保育施設一覧より転記!$A$2:$G$38,7,FALSE)&" 様" -> 理事長 平岡 立行 様
B8: 施 設 名 | E8: =W2 -> 第一くるみ幼稚園 | V8: 反映
V9: 施設類型 | W9: =VLOOKUP($W$2,施設情報一覧_R07市内特定教育・保育施設一覧より転記!$A$2:$G$38,2,FALSE) -> 認定こども園
M10: 習志野市長 宮本 泰介 | V10: 親番号 | W10: =VLOOKUP(W9,V13:W16,2,FALSE) -> 17
V12: 親番
A13: 補助金等交付決定通知書 | V13: 民間認可保育所 | W13: 15
V14: 小規模保育事業 | W14: 16
V15: 認定こども園 | W15: 17
A16: =" "&TEXT(W6, "ggge年m月d日") &"付けで申請のあった補助金等の交付については、次のとおり決定しましたので、習志野市補助金等交付規則により通知します。" -> 令和8年1月13日付けで申請のあった補助金等の交付については、次のとおり決定しましたので、習志野市補助金等交付規則により通知します。 | V16: 幼稚園 | W16: 18
A19: １ 補助事業等の名称 | G19: ="習志野市"&IF(ISNUMBER(SEARCH("運営費", W3)), W9, "")&W3 -> 習志野市保育士宿舎借り上げ支援事業費補助金
A21: ２ 補助金交付決定額 | G21: =INDEX(交付決定・確定額一覧!B3:J39, MATCH(W2, 交付決定・確定額一覧!A3:A39, 0), MATCH(W3, 交付決定・確定額一覧!B2:J2, 0)) -> 810000
A22: ３ 補助金交付予定時期 | G22: 請求書受理後、１ヶ月以内に交付する
A23: ４ 補助金交付条件 | G23: ‐
A25: ※ 上記の決定内容及び交付条件に不服があるときは、この通知書を受けた日の翌日から起算して７日以内に書面をもって申請の取下げができます。

Sheet 請求書【交付決定】
A1: =VLOOKUP(W3,Z12:AA22,2,FALSE) -> 第６号様式（第９条関係） | V1: 入力欄
V2: 施設名 | W2: 幼保連携型認定こども園青葉幼稚園 | Y2: ←上書きで使用してください
T3: 令和 年 月 日 | V3: 補助金 | W3: 運営費補助金
V4: 指令年月日 | W4: 45995
A5: 習志野市長 様 | V5: 指令番号（枝） | W5: 13
G7: 補助事業者住所 | L7: =VLOOKUP($W$2,施設情報一覧_R07市内特定教育・保育施設一覧より転記!$A$2:$G$38,3,FALSE) -> 習志野市津田沼３－１６－３６ | V7: 反映
G8: 補助事業者氏名 | L8: =VLOOKUP($W$2,施設情報一覧_R07市内特定教育・保育施設一覧より転記!$A$2:$G$38,4,FALSE) -> 社会福祉法人青葉学園 | V8: 施設類型 | W8: =VLOOKUP($W$2,施設情報一覧_R07市内特定教育・保育施設一覧より転記!$A$2:$G$38,2,FALSE) -> 認定こども園
G9: （代表者名） | L9: =VLOOKUP($W$2,施設情報一覧_R07市内特定教育・保育施設一覧より転記!$A$2:$G$38,7,FALSE) -> 理事長 藤本 志磨 | V9: 親番号 | W9: =VLOOKUP(W8,V12:W15,2,FALSE) -> 17
G10: （施設名） | L10: =W2 -> 幼保連携型認定こども園青葉幼稚園
V11: 親番 | Z11: 様式
V12: 民間認可保育所 | W12: 15 | Z12: 運営費補助金第1期分 | AA12: 第６号様式（第９条関係）
A13: ="習志野市"&IF(ISNUMBER(SEARCH("運営費", W3)), W8, "")&IF(ISNUMBER(SEARCH("運営費", W3)), "運営費補助金", W3)&"等概算払・前金払請求書" -> 習志野市認定こども園運営費補助金等概算払・前金払請求書 | V13: 小規模保育事業 | W13: 16 | Z13: 運営費補助金第2期分 | AA13: 第６号様式（第９条関係）
V14: 認定こども園 | W14: 17 | Z14: 運営費補助金 | AA14: 第６号様式（第９条関係）
V15: 幼稚園 | W15: 18 | Z15: 延長保育等事業費補助金 | AA15: 第１３号様式（第８条関係）
A16: =" 習志野市補助金等交付規則及び習志野市"&IF(ISNUMBER(SEARCH("運営費", W3)), W8, "")&IF(ISNUMBER(SEARCH("運営費", W3)), "運営費補助金", W3)&IF(ISNUMBER(SEARCH("ＩＣＴ", W3)), "交付要領", "交付要綱")&"により、補助金等の概算払 ・前金払 を次のとおり請求します。" -> 習志野市補助金等交付規則及び習志野市認定こども園運営費補助金交付要綱により、補助金等の概算払 ・前金払 を次のとおり請求します。 | Z16: 保育士処遇改善事業費補助金 | AA16: 第５号様式（第１０条関係）
Z17: 保育士宿舎借り上げ支援事業費補助金 | AA17: 第８号様式（第１２条関係）
Z18: 都市部における保育所等への賃借料支援事業補助金 | AA18: 第６号様式（第９条関係）
A19: １ 指令年月日 | F19: =W4 -> 45995 | K19: ２ 指令番号 | P19: 習志野市指令 | Z19: 保育所等におけるＩＣＴ化推進及び安全対策事業費補助金 | AA19: 第４号様式（第１３条関係）
P20: ="こ保第"&W9&"-"&W5&"号" -> こ保第17-13号 | Z20: 乳児等通園支援事業費補助金 | AA20: 第４号様式（第９条関係）
A21: ３ 補助事業等の 名称 | F21: ="習志野市"&IF(ISNUMBER(SEARCH("運営費", W3)), W8, "")&W3 -> 習志野市認定こども園運営費補助金 | Z21: 民間認可保育所賃借料補助金 | AA21: 第４号様式（第９条関係）
A22: ４ 概算払・前金払 請求額 | F22: =INDEX(交付決定・確定額一覧!B3:J39, MATCH(W2, 交付決定・確定額一覧!A3:A39, 0), MATCH(W3, 交付決定・確定額一覧!B2:J2, 0)) -> 0
A23: ５ 概算払・前金払 の請求理由 | F23: 法人の運営上必要なため。
A25: ※ ６については、必要がある場合に記載してください
A26: 6 | B26: 金融機関名 | K26: 預金区分 | N26: １普通・２当座・３貯蓄
B27: 口座名義 | K27: 口座番号

Sheet 請求書【確定】
A1: =VLOOKUP(W3,Z12:AA22,2,FALSE) -> 第３号様式（第８条関係） | V1: 入力欄
V2: 施設名 | W2: 京進のほいくえんＨＯＰＰＡ津田沼ザ・タワー | Y2: ←上書きで使用してください
T3: 令和 年 月 日 | V3: 補助金 | W3: 乳児等通園支援事業費補助金
V4: 指令年月日 | W4: 45951
A5: 習志野市長 様 | V5: 指令番号（枝） | W5: 48
G7: 補助事業者住所 | L7: =VLOOKUP($W$2,施設情報一覧_R07市内特定教育・保育施設一覧より転記!$A$2:$G$38,3,FALSE) -> 京都府京都市下京区烏丸通五条下る大坂町３８２－１ | V7: 反映
G8: 補助事業者氏名 | L8: =VLOOKUP($W$2,施設情報一覧_R07市内特定教育・保育施設一覧より転記!$A$2:$G$38,4,FALSE) -> 株式会社ＨＯＰＰＡ | V8: 施設類型 | W8: =VLOOKUP($W$2,施設情報一覧_R07市内特定教育・保育施設一覧より転記!$A$2:$G$38,2,FALSE) -> 民間認可保育所
G9: （代表者名） | L9: =VLOOKUP($W$2,施設情報一覧_R07市内特定教育・保育施設一覧より転記!$A$2:$G$38,7,FALSE) -> 代表取締役 青松 武志 | V9: 親番号 | W9: =VLOOKUP(W8,V12:W15,2,FALSE) -> 15
G10: （施設名） | L10: =W2 -> 京進のほいくえんＨＯＰＰＡ津田沼ザ・タワー
V11: 親番 | Z11: 様式
V12: 民間認可保育所 | W12: 15 | Z12: 運営費補助金第1期分 | AA12: 第５号様式（第８条関係）
A13: ="習志野市"&IF(ISNUMBER(SEARCH("運営費", W3)), W8, "")&IF(ISNUMBER(SEARCH("運営費", W3)), "運営費補助金", W3)&"交付請求書" -> 習志野市乳児等通園支援事業費補助金交付請求書 | V13: 小規模保育事業 | W13: 16 | Z13: 運営費補助金第2期分 | AA13: 第５号様式（第８条関係）
V14: 認定こども園 | W14: 17 | Z14: 運営費補助金 | AA14: 第５号様式（第８条関係）
V15: 幼稚園 | W15: 18 | Z15: 延長保育等事業費補助金 | AA15: 第１２号様式（第７条関係）
A16: =" 習志野市補助金等交付規則及び習志野市"&IF(ISNUMBER(SEARCH("運営費", W3)), W8, "")&IF(ISNUMBER(SEARCH("運営費", W3)), "運営費補助金", W3)&IF(ISNUMBER(SEARCH("ＩＣＴ", W3)), "交付要領", "交付要綱")&"により、補助金等の交付を次のとおり請求します。" -> 習志野市補助金等交付規則及び習志野市乳児等通園支援事業費補助金交付要綱により、補助金等の交付を次のとおり請求します。 | Z16: 保育士処遇改善事業費補助金 | AA16: 第４号様式（第９条関係）
Z17: 保育士宿舎借り上げ支援事業費補助金 | AA17: 第７号様式（第１１条関係）
Z18: 都市部における保育所等への賃借料支援事業補助金 | AA18: 第５号様式（第８条関係）
A19: １ 指令年月日 | F19: =W4 -> 45951 | K19: ２ 指令番号 | P19: 習志野市指令 | Z19: 保育所等におけるＩＣＴ化推進及び安全対策事業費補助金 | AA19: 第３号様式（第１２条関係）
P20: ="こ保第"&W9&"-"&W5&"号" -> こ保第15-48号 | Z20: 認可保育所施設整備資金借入金償還利子補助金 | AA20: 第３号様式（第６条関係）
A21: ３ 補助事業等の 名称 | F21: ="習志野市"&IF(ISNUMBER(SEARCH("運営費", W3)), W8, "")&W3 -> 習志野市乳児等通園支援事業費補助金 | Z21: 乳児等通園支援事業費補助金 | AA21: 第３号様式（第８条関係）
A22: ４ 交付決定額 | F22: =INDEX(交付決定・確定額一覧!B3:J39, MATCH(W2, 交付決定・確定額一覧!A3:A39, 0), MATCH(W3, 交付決定・確定額一覧!B2:J2, 0)) -> #N/A | Z22: 民間認可保育所賃借料補助金 | AA22: 第３号様式（第８条関係）
A23: ５ 交付確定額 | F23: =INDEX(交付決定・確定額一覧!K3:S39, MATCH(W2, 交付決定・確定額一覧!A3:A39, 0), MATCH(W3, 交付決定・確定額一覧!K2:S2, 0)) -> #N/A
A24: ６ 既交付額 | F24: =INDEX(交付決定・確定額一覧!T3:AB39, MATCH(W2, 交付決定・確定額一覧!A3:A39, 0), MATCH(W3, 交付決定・確定額一覧!T2:AB2, 0)) -> #N/A
A25: ７ 今回交付請求額 | F25: =F23-F24 -> #N/A
A26: ８ 添付書類
A28: 9 | B28: 金融機関名 | K28: 預金区分 | N28: １普通・２当座・３貯蓄
B29: 口座名義 | K29: 口座番号

Sheet 交付決定・確定額一覧
A1: 施設名 | B1: 交付決定額 | K1: 交付確定額 | T1: 既交付額【交付決定額を概算交付していない場合は、「0」を手入力】
B2: 運営費補助金第1期分 | C2: 運営費補助金第2期分 | D2: 運営費補助金 | E2: 延長保育等事業費補助金 | F2: 保育士処遇改善事業費補助金 | G2: 保育士宿舎借り上げ支援事業費補助金 | H2: 都市部における保育所等への賃借料支援事業補助金 | I2: 保育所等におけるＩＣＴ化推進及び安全対策事業費補助金 | J2: 認可保育所施設整備資金借入金償還利子補助金 | K2: 運営費補助金第1期分 | L2: 運営費補助金第2期分 | M2: 運営費補助金 | N2: 延長保育等事業費補助金 | O2: 保育士処遇改善事業費補助金 | P2: 保育士宿舎借り上げ事業費補助金 | Q2: 都市部における保育所等への賃借料支援事業補助金 | R2: 保育所等におけるＩＣＴ化推進および安全対策事業費補助金 | S2: 認可保育所施設整備資金借入金償還利子補助金 | T2: 運営費補助金第1期分 | U2: 運営費補助金第2期分 | V2: 運営費補助金 | W2: 延長保育等事業費補助金 | X2: 保育士処遇改善事業費補助金 | Y2: 宿舎借り上げ事業費補助金 | Z2: 都市部における保育所等への賃借料支援事業補助金 | AA2: 保育所等におけるＩＣＴ化推進及び安全対策事業費補助金 | AB2: 認可保育所施設整備資金借入金償還利子補助金
A3: かすみ保育園 | E3: 5803000 | F3: 7020000 | I3: 600000 | T3: =B3 -> 0 | U3: =C3 -> 0 | W3: =E3 -> 5803000 | X3: =F3 -> 7020000 | Y3: =G3 -> 0 | Z3: =H3 -> 0 | AA3: =I3 -> 600000 | AB3: =J3 -> 0
A4: 若松すずみ保育園 | E4: 5460000 | F4: 10134000 | I4: 69000 | T4: =B4 -> 0 | U4: =C4 -> 0 | W4: =E4 -> 5460000 | X4: =F4 -> 10134000 | Y4: =G4 -> 0 | Z4: =H4 -> 0 | AA4: =I4 -> 69000 | AB4: =J4 -> 0
A5: 明徳そでにの保育園 | E5: 8547000 | F5: 11050000 | G5: 4158000 | I5: 1238000 | T5: =B5 -> 0 | U5: =C5 -> 0 | W5: =E5 -> 8547000 | X5: =F5 -> 11050000 | Y5: =G5 -> 4158000 | Z5: =H5 -> 0 | AA5: =I5 -> 1238000 | AB5: =J5 -> 0
A6: アスクかなでのもり保育園 | E6: 6378000 | F6: 7624000 | G6: 1566000 | H6: 14174000 | T6: =B6 -> 0 | U6: =C6 -> 0 | W6: =E6 -> 6378000 | X6: =F6 -> 7624000 | Y6: =G6 -> 1566000 | Z6: =H6 -> 14174000 | AA6: =I6 -> 0 | AB6: =J6 -> 0
A7: アスクかなでのもり第二保育園 | E7: 8144000 | F7: 7831000 | G7: 1197000 | I7: 147000 | T7: =B7 -> 0 | U7: =C7 -> 0 | W7: =E7 -> 8144000 | X7: =F7 -> 7831000 | Y7: =G7 -> 1197000 | Z7: =H7 -> 0 | AA7: =I7 -> 147000 | AB7: =J7 -> 0
A8: キッズガーデン奏の杜園 | E8: 6425000 | F8: 5867000 | G8: 1173000 | H8: 16500000 | T8: =B8 -> 0 | U8: =C8 -> 0 | W8: =E8 -> 6425000 | X8: =F8 -> 5867000 | Y8: =G8 -> 1173000 | Z8: =H8 -> 16500000 | AA8: =I8 -> 0 | AB8: =J8 -> 0
A9: 谷津みのり保育園 | E9: 2894000 | F9: 6381000 | T9: =B9 -> 0 | U9: =C9 -> 0 | W9: =E9 -> 2894000 | X9: =F9 -> 6381000 | Y9: =G9 -> 0 | Z9: =H9 -> 0 | AA9: =I9 -> 0 | AB9: =J9 -> 0
A10: そらまめ保育園かなでの杜 | E10: 6299000 | F10: 7274000 | G10: 1611000 | H10: 16500000 | T10: =B10 -> 0 | U10: =C10 -> 0 | W10: =E10 -> 6299000 | X10: =F10 -> 7274000 | Y10: =G10 -> 1611000 | Z10: =H10 -> 16500000 | AA10: =I10 -> 0 | AB10: =J10 -> 0
A11: ブレーメン津田沼保育園 | E11: 8100000 | F11: 12397000 | G11: 2871000 | T11: =B11 -> 0 | U11: =C11 -> 0 | W11: =E11 -> 8100000 | X11: =F11 -> 12397000 | Y11: =G11 -> 2871000 | Z11: =H11 -> 0 | AA11: =I11 -> 0 | AB11: =J11 -> 0
A12: 菊田みのり保育園 | E12: 4968000 | F12: 7522000 | T12: =B12 -> 0 | U12: =C12 -> 0 | W12: =E12 -> 4968000 | X12: =F12 -> 7522000 | Y12: =G12 -> 0 | Z12: =H12 -> 0 | AA12: =I12 -> 0 | AB12: =J12 -> 0
A13: ＣＯＯ本大久保保育園 | E13: 9831000 | F13: 11772000 | T13: =B13 -> 0 | U13: =C13 -> 0 | W13: =E13 -> 9831000 | X13: =F13 -> 11772000 | Y13: =G13 -> 0 | Z13: =H13 -> 0 | AA13: =I13 -> 0 | AB13: =J13 -> 0
A14: 京進のほいくえんＨＯＰＰＡ津田沼ザ・タワー | E14: 1086000 | F14: 5040000 | G14: 950000 | H14: 13794000 | T14: =B14 -> 0 | U14: =C14 -> 0 | W14: =E14 -> 1086000 | X14: =F14 -> 5040000 | Y14: =G14 -> 950000 | Z14: =H14 -> 13794000 | AA14: =I14 -> 0 | AB14: =J14 -> 0
A15: 実籾保育園 | T15: =B15 -> 0 | U15: =C15 -> 0 | W15: =E15 -> 0 | X15: =F15 -> 0 | Y15: =G15 -> 0 | Z15: =H15 -> 0 | AA15: =I15 -> 0 | AB15: =J15 -> 0
A16: そらまめ保育園津田沼駅前 | E16: 3823000 | F16: 6325000 | G16: 1413000 | H16: 16500000 | T16: =B16 -> 0 | U16: =C16 -> 0 | W16: =E16 -> 3823000 | X16: =F16 -> 6325000 | Y16: =G16 -> 1413000 | Z16: =H16 -> 16500000 | AA16: =I16 -> 0 | AB16: =J16 -> 0
A17: クニナ奏の杜保育園 | E17: 6362000 | F17: 7847000 | G17: 1159000 | H17: 9644000 | I17: 825000 | T17: =B17 -> 0 | U17: =C17 -> 0 | W17: =E17 -> 6362000 | X17: =F17 -> 7847000 | Y17: =G17 -> 1159000 | Z17: =H17 -> 9644000 | AA17: =I17 -> 825000 | AB17: =J17 -> 0
A18: リトルガーデンインターナショナル新習志野保育園 | E18: 360000 | F18: 2541000 | G18: 270000 | T18: =B18 -> 0 | U18: =C18 -> 0 | W18: =E18 -> 360000 | X18: =F18 -> 2541000 | Y18: =G18 -> 270000 | Z18: =H18 -> 0 | AA18: =I18 -> 0 | AB18: =J18 -> 0
A19: キッズガーデン津田沼園 | E19: 5160000 | F19: 6407000 | H19: 11025000 | T19: =B19 -> 0 | U19: =C19 -> 0 | W19: =E19 -> 5160000 | X19: =F19 -> 6407000 | Y19: =G19 -> 0 | Z19: =H19 -> 11025000 | AA19: =I19 -> 0 | AB19: =J19 -> 0
A20: 青葉保育園 | E20: 12797000 | F20: 10512000 | G20: 2784000 | T20: =B20 -> 0 | U20: =C20 -> 0 | W20: =E20 -> 12797000 | X20: =F20 -> 10512000 | Y20: =G20 -> 2784000 | Z20: =H20 -> 0 | AA20: =I20 -> 0 | AB20: =J20 -> 0
A21: 大久保みのり保育園 | E21: 4541000 | F21: 6721000 | T21: =B21 -> 0 | U21: =C21 -> 0 | W21: =E21 -> 4541000 | X21: =F21 -> 6721000 | Y21: =G21 -> 0 | Z21: =H21 -> 0 | AA21: =I21 -> 0 | AB21: =J21 -> 0
A22: 藤崎みつぼし保育園 | E22: 7284000 | F22: 9072000 | G22: 2392000 | T22: =B22 -> 0 | U22: =C22 -> 0 | W22: =E22 -> 7284000 | X22: =F22 -> 9072000 | Y22: =G22 -> 2392000 | Z22: =H22 -> 0 | AA22: =I22 -> 0 | AB22: =J22 -> 0
A23: みのりつくしこども園 | E23: 6428000 | F23: 7593000 | G23: 1855000 | T23: =B23 -> 0 | U23: =C23 -> 0 | W23: =E23 -> 6428000 | X23: =F23 -> 7593000 | Y23: =G23 -> 1855000 | Z23: =H23 -> 0 | AA23: =I23 -> 0 | AB23: =J23 -> 0
A24: ブレーメン実花こども園 | E24: 5040000 | F24: 10692000 | G24: 1839000 | T24: =B24 -> 0 | U24: =C24 -> 0 | W24: =E24 -> 5040000 | X24: =F24 -> 10692000 | Y24: =G24 -> 1839000 | Z24: =H24 -> 0 | AA24: =I24 -> 0 | AB24: =J24 -> 0
A25: 幼保連携型認定こども園青葉幼稚園 | E25: 7939000 | F25: 15336000 | G25: 5692000 | T25: =B25 -> 0 | U25: =C25 -> 0 | W25: =E25 -> 7939000 | X25: =F25 -> 15336000 | Y25: =G25 -> 5692000 | Z25: =H25 -> 0 | AA25: =I25 -> 0 | AB25: =J25 -> 0
A26: 第一くるみ幼稚園 | F26: 4212000 | G26: 810000 | T26: =B26 -> 0 | U26: =C26 -> 0 | W26: =E26 -> 0 | X26: =F26 -> 4212000 | Y26: =G26 -> 810000 | Z26: =H26 -> 0 | AA26: =I26 -> 0 | AB26: =J26 -> 0
A27: 習志野みのり幼稚園 | F27: 9602000 | G27: 768000 | T27: =B27 -> 0 | U27: =C27 -> 0 | W27: =E27 -> 0 | X27: =F27 -> 9602000 | Y27: =G27 -> 768000 | Z27: =H27 -> 0 | AA27: =I27 -> 0 | AB27: =J27 -> 0
A28: ひまわり保育園2nd | E28: 1963000 | F28: 2160000 | V28: =D28 -> 0 | W28: =E28 -> 1963000 | X28: =F28 -> 2160000 | Y28: =G28 -> 0 | Z28: =H28 -> 0 | AA28: =I28 -> 0 | AB28: =J28 -> 0
A29: ひまわり保育園3rd | E29: 2702000 | F29: 2520000 | G29: 1599000 | V29: =D29 -> 0 | W29: =E29 -> 2702000 | X29: =F29 -> 2520000 | Y29: =G29 -> 1599000 | Z29: =H29 -> 0 | AA29: =I29 -> 0 | AB29: =J29 -> 0
A30: サンライズキッズ保育園津田沼園 | E30: 2547000 | F30: 2994000 | G30: 1818000 | V30: =D30 -> 0 | W30: =E30 -> 2547000 | X30: =F30 -> 2994000 | Y30: =G30 -> 1818000 | Z30: =H30 -> 0 | AA30: =I30 -> 0 | AB30: =J30 -> 0
A31: サンライズキッズ保育園奏の杜園 | E31: 2781000 | F31: 2531000 | G31: 1447000 | V31: =D31 -> 0 | W31: =E31 -> 2781000 | X31: =F31 -> 2531000 | Y31: =G31 -> 1447000 | Z31: =H31 -> 0 | AA31: =I31 -> 0 | AB31: =J31 -> 0
A32: ひまわり保育園 | E32: 2615000 | F32: 2592000 | V32: =D32 -> 0 | W32: =E32 -> 2615000 | X32: =F32 -> 2592000 | Y32: =G32 -> 0 | Z32: =H32 -> 0 | AA32: =I32 -> 0 | AB32: =J32 -> 0
A33: 杜の子保育園 | E33: 360000 | F33: 2955000 | G33: 2412000 | V33: =D33 -> 0 | W33: =E33 -> 360000 | X33: =F33 -> 2955000 | Y33: =G33 -> 2412000 | Z33: =H33 -> 0 | AA33: =I33 -> 0 | AB33: =J33 -> 0
A34: サンライズキッズ保育園谷津園 | E34: 1837000 | F34: 2139000 | V34: =D34 -> 0 | W34: =E34 -> 1837000 | X34: =F34 -> 2139000 | Y34: =G34 -> 0 | Z34: =H34 -> 0 | AA34: =I34 -> 0 | AB34: =J34 -> 0
A35: ロゼッタ保育園 | E35: 1058000 | F35: 2139000 | I35: 227000 | V35: =D35 -> 0 | W35: =E35 -> 1058000 | X35: =F35 -> 2139000 | Y35: =G35 -> 0 | Z35: =H35 -> 0 | AA35: =I35 -> 227000 | AB35: =J35 -> 0
A36: スマイスセレソンスポーツ保育園谷津 | E36: 443000 | F36: 2174000 | G36: 653000 | I36: 156000 | V36: =D36 -> 0 | W36: =E36 -> 443000 | X36: =F36 -> 2174000 | Y36: =G36 -> 653000 | Z36: =H36 -> 0 | AA36: =I36 -> 156000 | AB36: =J36 -> 0
A37: ポピンズナーサリースクールイオンモール津田沼 | E37: 877000 | F37: 2159000 | V37: =D37 -> 0 | W37: =E37 -> 877000 | X37: =F37 -> 2159000 | Y37: =G37 -> 0 | Z37: =H37 -> 0 | AA37: =I37 -> 0 | AB37: =J37 -> 0
A38: ひまわり保育園Sola | E38: 2359000 | F38: 3708000 | G38: 1506000 | V38: =D38 -> 0 | W38: =E38 -> 2359000 | X38: =F38 -> 3708000 | Y38: =G38 -> 1506000 | Z38: =H38 -> 0 | AA38: =I38 -> 0 | AB38: =J38 -> 0
A39: ホーリネス幼稚園 | T39: =B39 -> 0 | U39: =C39 -> 0 | W39: =E39 -> 0 | X39: =F39 -> 0 | Y39: =G39 -> 0 | Z39: =H39 -> 0 | AA39: =I39 -> 0 | AB39: =J39 -> 0

Sheet 日付・番号
A1: 施設名 | B1: 運営費補助金 第1期分 | G1: 運営費補助金 第2期分 | L1: 運営費補助金 | Q1: 延長保育等 事業費補助金 | V1: 保育士処遇改善事業費補助金 | AA1: 宿舎借り上げ支援事業費補助金 | AF1: 都市部における保育所等への賃借料支援事業補助金 | AK1: 保育所等におけるＩＣＴ化推進および安全対策事業費補助金 | AP1: 認可保育所施設整備資金借入金償還利子補助金
B2: =B1 -> 運営費補助金 第1期分 | C2: =B1 -> 運営費補助金 第1期分 | D2: =B1 -> 運営費補助金 第1期分 | E2: =B1 -> 運営費補助金 第1期分 | F2: =B1 -> 運営費補助金 第1期分 | G2: =G1 -> 運営費補助金 第2期分 | H2: =G1 -> 運営費補助金 第2期分 | I2: =G1 -> 運営費補助金 第2期分 | J2: =G1 -> 運営費補助金 第2期分 | K2: =G1 -> 運営費補助金 第2期分 | L2: =L1 -> 運営費補助金 | M2: =L1 -> 運営費補助金 | N2: =L1 -> 運営費補助金 | O2: =L1 -> 運営費補助金 | P2: =L1 -> 運営費補助金 | Q2: =Q1 -> 延長保育等 事業費補助金 | R2: =Q1 -> 延長保育等 事業費補助金 | S2: =Q1 -> 延長保育等 事業費補助金 | T2: =Q1 -> 延長保育等 事業費補助金 | U2: =Q1 -> 延長保育等 事業費補助金 | V2: =V1 -> 保育士処遇改善事業費補助金 | W2: =V1 -> 保育士処遇改善事業費補助金 | X2: =V1 -> 保育士処遇改善事業費補助金 | Y2: =V1 -> 保育士処遇改善事業費補助金 | Z2: =V1 -> 保育士処遇改善事業費補助金 | AA2: =AA1 -> 宿舎借り上げ支援事業費補助金 | AB2: =AA1 -> 宿舎借り上げ支援事業費補助金 | AC2: =AA1 -> 宿舎借り上げ支援事業費補助金 | AD2: =AA1 -> 宿舎借り上げ支援事業費補助金 | AE2: =AA1 -> 宿舎借り上げ支援事業費補助金 | AF2: =AF1 -> 都市部における保育所等への賃借料支援事業補助金 | AG2: =AF1 -> 都市部における保育所等への賃借料支援事業補助金 | AH2: =AF1 -> 都市部における保育所等への賃借料支援事業補助金 | AI2: =AF1 -> 都市部における保育所等への賃借料支援事業補助金 | AJ2: =AF1 -> 都市部における保育所等への賃借料支援事業補助金 | AK2: =AK1 -> 保育所等におけるＩＣＴ化推進および安全対策事業費補助金 | AL2: =AK1 -> 保育所等におけるＩＣＴ化推進および安全対策事業費補助金 | AM2: =AK1 -> 保育所等におけるＩＣＴ化推進および安全対策事業費補助金 | AN2: =AK1 -> 保育所等におけるＩＣＴ化推進および安全対策事業費補助金 | AO2: =AK1 -> 保育所等におけるＩＣＴ化推進および安全対策事業費補助金 | AP2: =AP1 -> 認可保育所施設整備資金借入金償還利子補助金 | AQ2: =AP1 -> 認可保育所施設整備資金借入金償還利子補助金 | AR2: =AP1 -> 認可保育所施設整備資金借入金償還利子補助金 | AS2: =AP1 -> 認可保育所施設整備資金借入金償還利子補助金 | AT2: =AP1 -> 認可保育所施設整備資金借入金償還利子補助金
B3: 申請日 | C3: 決定日 | D3: 決定枝番 | E3: 確定日 | F3: 確定番号 | G3: 申請日 | H3: 決定日 | I3: 決定枝番 | J3: 確定日 | K3: 確定番号 | L3: 申請日 | M3: 決定日 | N3: 決定枝番 | O3: 確定日 | P3: 確定番号 | Q3: 申請日 | R3: 決定日 | S3: 決定枝番 | T3: 確定日 | U3: 確定番号 | V3: 申請日 | W3: 決定日 | X3: 決定枝番 | Y3: 確定日 | Z3: 確定番号 | AA3: 申請日 | AB3: 決定日 | AC3: 決定枝番 | AD3: 確定日 | AE3: 確定番号 | AF3: 申請日 | AG3: 決定日 | AH3: 決定枝番 | AI3: 確定日 | AJ3: 確定番号 | AK3: 申請日 | AL3: 決定日 | AM3: 決定枝番 | AN3: 確定日 | AO3: 確定番号 | AP3: 申請日 | AQ3: 決定日 | AR3: 決定枝番 | AS3: 確定日 | AT3: 確定番号
A4: かすみ保育園
A5: 若松すずみ保育園
A6: 明徳そでにの保育園
A7: アスクかなでのもり保育園
A8: アスクかなでのもり第二保育園
A9: キッズガーデン奏の杜園
A10: 谷津みのり保育園
A11: そらまめ保育園かなでの杜
A12: ブレーメン津田沼保育園
A13: 菊田みのり保育園
A14: ＣＯＯ本大久保保育園
A15: 京進のほいくえんＨＯＰＰＡ津田沼ザ・タワー
... A40: ホーリネス幼稚園

Sheet 施設情報一覧_R07市内特定教育・保育施設一覧より転記
A1: 施設名 | B1: 類型（親番用） | C1: 法人所在地 | D1: 法人名 | E1: 役職 | F1: 代表者名 | G1: 役職+代表者名
A2: かすみ保育園 | B2: 民間認可保育所 | C2: 八千代市大和田新田１０９２－７ | D2: 社会福祉法人ひこばえ | E2: 理事長 | F2: 茂呂 利男 | G2: =E2&" "&F2 -> 理事長 茂呂 利男
A3: 若松すずみ保育園 | B3: 民間認可保育所 | C3: 八千代市八千代台北１７－７－１０ | D3: 社会福祉法人すずみ会 | E3: 理事長 | F3: 田口 賢 | G3: =E3&" "&F3 -> 理事長 田口 賢
A4: 明徳そでにの保育園 | B4: 民間認可保育所 | C4: 千葉市緑区土気町１６２６－５ | D4: 社会福祉法人千葉明徳会 | E4: 理事長 | F4: 福中 儀明 | G4: =E4&" "&F4 -> 理事長 福中 儀明
A5: アスクかなでのもり保育園 | B5: 民間認可保育所 | C5: 東京都港区港南１丁目２番７０号 | D5: 株式会社日本保育サービス | E5: 代表取締役 | F5: 坂井 徹 | G5: =E5&" "&F5 -> 代表取締役 坂井 徹
A6: アスクかなでのもり第二保育園 | B6: 民間認可保育所 | C6: 東京都港区港南１丁目２番７０号 | D6: 株式会社日本保育サービス | E6: 代表取締役 | F6: 坂井 徹 | G6: =E6&" "&F6 -> 代表取締役 坂井 徹
A7: キッズガーデン奏の杜園 | B7: 民間認可保育所 | C7: 習志野市谷津２－９－１８ | D7: 株式会社生活設計 | E7: 代表取締役 | F7: 井手 健二郎 | G7: =E7&" "&F7 -> 代表取締役 井手 健二郎
A8: 谷津みのり保育園 | B8: 民間認可保育所 | C8: 習志野市谷津２－５－６ | D8: 社会福祉法人習志野 | E8: 理事長 | F8: 飯塚 源太 | G8: =E8&" "&F8 -> 理事長 飯塚 源太
A9: そらまめ保育園かなでの杜 | B9: 民間認可保育所 | C9: 習志野市奏の杜３－１４－９ | D9: 株式会社ブルーム | E9: 代表取締役 | F9: 山﨑 厚子 | G9: =E9&" "&F9 -> 代表取締役 山﨑 厚子
A10: ブレーメン津田沼保育園 | B10: 民間認可保育所 | C10: 八千代市村上６４１ | D10: 社会福祉法人八千代美香会 | E10: 理事長 | F10: 綱島 照雄 | G10: =E10&" "&F10 -> 理事長 綱島 照雄
A11: 菊田みのり保育園 | B11: 民間認可保育所 | C11: 習志野市谷津２－５－６ | D11: 社会福祉法人習志野 | E11: 理事長 | F11: 飯塚 源太 | G11: =E11&" "&F11 -> 理事長 飯塚 源太
A12: ＣＯＯ本大久保保育園 | B12: 民間認可保育所 | C12: 船橋市習志野台２－５９－２２ | D12: 学校法人正良学園 | E12: 理事長 | F12: 犬飼 良成 | G12: =E12&" "&F12 -> 理事長 犬飼 良成
A13: 京進のほいくえんＨＯＰＰＡ津田沼ザ・タワー | B13: 民間認可保育所 | C13: 京都府京都市下京区烏丸通五条下る大坂町３８２－１ | D13: 株式会社ＨＯＰＰＡ | E13: 代表取締役 | F13: 青松 武志 | G13: =E13&" "&F13 -> 代表取締役 青松 武志
... A37: ひまわり保育園Sola | B37: 小規模保育事業 | C37: 習志野市本大久保４－１４－１０グランドパレス大久保２０３ | D37: ラビットポケット株式会社 | E37: 代表取締役 | F37: 鈴木 潤悦 | G37: =E37&" "&F37 -> 代表取締役 鈴木 潤悦
A38: ホーリネス幼稚園 | B38: 幼稚園 | D38: あずま学園 | E38: 役職不明 | F38: 東 薫 | G38: =E38&" "&F38 -> 役職不明 東 薫
